BEGIN:VCALENDAR
VERSION:2.0
PRODID:-//ChamberMaster//Event Calendar 2.0//EN
METHOD:PUBLISH
X-PUBLISHED-TTL:P3D
REFRESH-INTERVAL:P3D
CALSCALE:GREGORIAN
BEGIN:VEVENT
DTSTART:20190227T210000Z
DTEND:20190227T230000Z
X-MICROSOFT-CDO-ALLDAYEVENT:FALSE
SUMMARY:YP Meet Up-"Making an Impact"
DESCRIPTION:YP Meet Up - "Making an Impact"\n\n\n\nGuest Speakers:  Kevin Deary-President & CEO - Boys and Girls Club Goshen\n\nJodi Spataro-Chief Advancement Officer - Community Foundation of Elkhart County\n\nLeah Benavente-Acts of Service
X-ALT-DESC;FMTTYPE=text/html:<div style="text-align: center\;">YP Meet Up - &quot\;Making an Impact&quot\;<br />\n<br />\nGuest Speakers:&nbsp\; Kevin Deary-President &amp\; CEO -&nbsp\;Boys and Girls Club Goshen<br />\nJodi Spataro-Chief Advancement Officer - Community Foundation of Elkhart County<br />\n<a class="lnkNormalOvr" style="color: rgb(100\, 49\, 130)\; font-size: 13px\; text-decoration-line: underline\; font-family: Roboto\, sans-serif\; background-color: rgb(255\, 255\, 255)\;" title="ID #9761">Leah Benavente-</a>Acts of Service</div>\n
LOCATION:Goshen Chamber of Commerce 232 S. Main Street Goshen\, IN 46526
UID:e.689.18590
SEQUENCE:3
DTSTAMP:20260423T195935Z
URL:https://business.goshen.org/events/details/yp-meet-up-making-an-impact-18590
END:VEVENT

END:VCALENDAR
