BEGIN:VCALENDAR
VERSION:2.0
PRODID:-//ChamberMaster//Event Calendar 2.0//EN
METHOD:PUBLISH
X-PUBLISHED-TTL:P3D
REFRESH-INTERVAL:P3D
CALSCALE:GREGORIAN
BEGIN:VEVENT
DTSTART;VALUE=DATE:20160808
DTEND;VALUE=DATE:20160809
TRANSP:TRANSPARENT
X-MICROSOFT-CDO-ALLDAYEVENT:TRUE
SUMMARY:Youth Soccer League
DESCRIPTION:This is a co-ed recreational league that provides the area?s young people the opportunity to learn and enjoy the sport of soccer. Our program emphasizes good health\, exercise and friendly competition. We promote the development of soccer skills\, an understanding of the game and the enjoyment that comes from playing the world?s most popular sport?soccer. Volunteer coaches are needed to assist in the success of this program\; please contact Frank at 534-2901. Register now through July 29 at the Goshen Parks Office. Practice: One weekday evening each week Games: Played on Saturdays\, times vary\, 9 am?2 pm Season: August 8?September 24 Location: Pringle Park Fee: $45 registration fee includes team T-shirt Levels: Ages 4/5 Ages 6-9 -------------------------------------------------- Liga de F tbol/Soccer De Goshen Tibur nes Todas las ligas son mixtas U6 (4/5) 3 versus 3 Introduce el juego de f tbol para ni os de 4-5 A os.  nfasis en el desarrollo de habilidades\, junto con juegos estructurados. U10 (6-9) 4 versus 4 Grande desarrollo en habilidades\, la divisi n es perfecto para el comienzo de jugador intermedio. Dependiendo en el registro los grupos de edades pueden cambiar. Pr cticas: van a ser una ves a la semana Juegos: Sabados\; tiempo puede variar\, 9am-2pm Lugar: Pringle Park\, 1912 W. Lincoln Ave. Temporada: El 8 de Agosto - 24 de Septiembre Costo: $45 Se require pre-registro\, m s se acepta desde ahora hasta el 29 de Julio en La Oficina de Parques de Goshen\, 607 W. Plymouth Ave. Si tienes preguntas llama al (574) 534-2901 Voluntarios por favor llame a Frank (534-6723)\, O solicite el formulario de voluntario preve inscripci n.
X-ALT-DESC;FMTTYPE=text/html:This is a co-ed recreational league that provides the area?s young people the opportunity to learn and enjoy the sport of soccer. Our program emphasizes good health\, exercise and friendly competition. We promote the development of soccer skills\, an understanding of the game and the enjoyment that comes from playing the world?s most popular sport?soccer. Volunteer coaches are needed to assist in the success of this program\; please contact Frank at 534-2901. Register now through July 29 at the Goshen Parks Office. Practice: One weekday evening each week Games: Played on Saturdays\, times vary\, 9 am?2 pm Season: August 8?September 24 Location: Pringle Park Fee: $45 registration fee includes team T-shirt Levels: Ages 4/5 Ages 6-9 -------------------------------------------------- Liga de F&uacute\;tbol/Soccer De Goshen Tibur&oacute\;nes Todas las ligas son mixtas U6 (4/5) 3 versus 3 Introduce el juego de f&uacute\;tbol para ni&ntilde\;os de 4-5 A&ntilde\;os. &Eacute\;nfasis en el desarrollo de habilidades\, junto con juegos estructurados. U10 (6-9) 4 versus 4 Grande desarrollo en habilidades\, la divisi&oacute\;n es perfecto para el comienzo de jugador intermedio. Dependiendo en el registro los grupos de edades pueden cambiar. Pr&aacute\;cticas: van a ser una ves a la semana Juegos: Sabados\; tiempo puede variar\, 9am-2pm Lugar: Pringle Park\, 1912 W. Lincoln Ave. Temporada: El 8 de Agosto - 24 de Septiembre Costo: $45 Se require pre-registro\, m&aacute\;s se acepta desde ahora hasta el 29 de Julio en La Oficina de Parques de Goshen\, 607 W. Plymouth Ave. Si tienes preguntas llama al (574) 534-2901 Voluntarios por favor llame a Frank (534-6723)\, O solicite el formulario de voluntario preve inscripci&oacute\;n.
LOCATION:Location: Pringle Park
UID:e.689.15243
SEQUENCE:3
DTSTAMP:20260425T233244Z
URL:https://business.goshen.org/events/details/youth-soccer-league-08-08-2016-15243
END:VEVENT

END:VCALENDAR
