BEGIN:VCALENDAR
VERSION:2.0
PRODID:-//ChamberMaster//Event Calendar 2.0//EN
METHOD:PUBLISH
X-PUBLISHED-TTL:P3D
REFRESH-INTERVAL:P3D
CALSCALE:GREGORIAN
BEGIN:VEVENT
DTSTART:20160613T130000Z
DTEND:20160613T150000Z
X-MICROSOFT-CDO-ALLDAYEVENT:FALSE
SUMMARY:Youth Soccer Camp
DESCRIPTION:This motivating four-day camp focuses on teaching soccer fundamentals\, purpose\, body balance\, safety\, directional improvements\, heading\, goalie positioning\, ball handling and sportsmanship. Our experienced instructors keep the ball rolling with this engaging program for boys and girls ages 4?9. Pre-registration is required at the Goshen Parks Office\, now through June 10 or until camp is full. Dates: June 13?16 Times: Ages 4/5\, 9?10 am Ages 6-9\, 10?11 am Location: Shanklin Park (ball diamond 3) Fee: $30 per participant ---------------------------------------- Goshen Campamento de F tbol Juvenil Este campamento motivante de cuatro dias se enfoca en ensa ar los fundamentos del f tbol/soccer\, el prop sito\, equilibrio corporal\, seguridad\, movimiento direccionales\, cabeceo\, colocaci n del guardameta\, manejo de la pelota y esp ritu deportivo. Nuestros instructors experimentados mantienen la pelota rodando con este programa que involucra a ni os y ni as de 4 a 10 a os. Fechas: Junio 13?Junio 16 Lunes? Jueves Tiempo: 4/5 A os\, 9:00am?10:00am 6-9 A os\, 10:00am?11:00am Donde: Shanklin Park (ball diamond 3) Costo: $30.00/hijo/a Registraci n: Se require inscripci n previa y ahora est  siendo aceptado en la Oficina de Parques de Goshen\, 607 West Plymouth Ave\, Hasta el 10 de Junio o hasta que el campamento alcanze la capacidad. Llame a Frank al (574) 534-2901 para mas informaci n.
X-ALT-DESC;FMTTYPE=text/html:This motivating four-day camp focuses on teaching soccer fundamentals\, purpose\, body balance\, safety\, directional improvements\, heading\, goalie positioning\, ball handling and sportsmanship. Our experienced instructors keep the ball rolling with this engaging program for boys and girls ages 4?9. Pre-registration is required at the Goshen Parks Office\, now through June 10 or until camp is full. Dates: June 13?16 Times: Ages 4/5\, 9?10 am Ages 6-9\, 10?11 am Location: Shanklin Park (ball diamond 3) Fee: $30 per participant ---------------------------------------- Goshen Campamento de F&uacute\;tbol Juvenil Este campamento motivante de cuatro dias se enfoca en ensa&ntilde\;ar los fundamentos del f&uacute\;tbol/soccer\, el prop&oacute\;sito\, equilibrio corporal\, seguridad\, movimiento direccionales\, cabeceo\, colocaci&oacute\;n del guardameta\, manejo de la pelota y esp&iacute\;ritu deportivo. Nuestros instructors experimentados mantienen la pelota rodando con este programa que involucra a ni&ntilde\;os y ni&ntilde\;as de 4 a 10 a&ntilde\;os. Fechas: Junio 13?Junio 16 Lunes? Jueves Tiempo: 4/5 A&ntilde\;os\, 9:00am?10:00am 6-9 A&ntilde\;os\, 10:00am?11:00am Donde: Shanklin Park (ball diamond 3) Costo: $30.00/hijo/a Registraci&oacute\;n: Se require inscripci&oacute\;n previa y ahora est&aacute\; siendo aceptado en la Oficina de Parques de Goshen\, 607 West Plymouth Ave\, Hasta el 10 de Junio o hasta que el campamento alcanze la capacidad. Llame a Frank al (574) 534-2901 para mas informaci&oacute\;n.
LOCATION:Shanklin Park (Ball Diamond 3)
UID:e.689.15242
SEQUENCE:3
DTSTAMP:20260426T035836Z
URL:https://business.goshen.org/events/details/youth-soccer-camp-06-13-2016-15242
END:VEVENT

END:VCALENDAR
