BEGIN:VCALENDAR
VERSION:2.0
PRODID:-//ChamberMaster//Event Calendar 2.0//EN
METHOD:PUBLISH
X-PUBLISHED-TTL:P3D
REFRESH-INTERVAL:P3D
CALSCALE:GREGORIAN
BEGIN:VEVENT
DTSTART:20160620T130000Z
DTEND:20160620T144500Z
X-MICROSOFT-CDO-ALLDAYEVENT:FALSE
SUMMARY:Youth Photography Camp
DESCRIPTION:This spring\, the focus is on Digital Photography Camp\, for ages 5?13! Participants will learn about lighting and how to compose a photo. They also will gain hands-on experience photographing groups of people\, as well as individuals\, sporting events\, pets\, wildlife\, landscapes\, flowers and candlelight. The class will gather at a variety of locations\, depending on the subjects being photographed. Class meets at Rieth Interpretive Center\, 410 West Plymouth Avenue. Please bring your own point-and-shoot or DSLR (digital single-lens reflex) digital camera. Fee: $35 Dates: June 20?24 Times: Ages 5?9: 9?9:45 am Ages 10+: 10?10:45 am
X-ALT-DESC;FMTTYPE=text/html:This spring\, the focus is on Digital Photography Camp\, for ages 5?13! Participants will learn about lighting and how to compose a photo. They also will gain hands-on experience photographing groups of people\, as well as individuals\, sporting events\, pets\, wildlife\, landscapes\, flowers and candlelight. The class will gather at a variety of locations\, depending on the subjects being photographed. Class meets at Rieth Interpretive Center\, 410 West Plymouth Avenue. Please bring your own point-and-shoot or DSLR (digital single-lens reflex) digital camera. Fee: $35 Dates: June 20?24 Times: Ages 5?9: 9?9:45 am Ages 10+: 10?10:45 am
LOCATION:
UID:e.689.15908
SEQUENCE:3
DTSTAMP:20260426T040020Z
URL:https://business.goshen.org/events/details/youth-photography-camp-06-20-2016-15908
END:VEVENT

END:VCALENDAR
