BEGIN:VCALENDAR
VERSION:2.0
PRODID:-//ChamberMaster//Event Calendar 2.0//EN
METHOD:PUBLISH
X-PUBLISHED-TTL:P3D
REFRESH-INTERVAL:P3D
CALSCALE:GREGORIAN
BEGIN:VEVENT
DTSTART:20200224T130000Z
DTEND:20200224T213000Z
X-MICROSOFT-CDO-ALLDAYEVENT:FALSE
SUMMARY:Youth Mental Health First Aid
DESCRIPTION:Participants who successfully complete the 8-hour training will become certified in Youth Mental Health First Aid. You will learn: -That the peak age of onset for mental illness is early adolescence. -The unique risk factors and warning signs of mental health problems in adolescents. -The importance of intervention. -How to help a youth who is experiencing a mental health or substance use challenge. -A 5-step action plan to assist an adolescent in crisis or an adolescent that is exhibiting the signs and symptoms of mental illness. -Resources available to help adolescents with a mental health problem.
X-ALT-DESC;FMTTYPE=text/html:Participants who successfully complete the 8-hour training will become certified in Youth Mental Health First Aid. You will learn: -That the peak age of onset for mental illness is early adolescence. -The unique risk factors and warning signs of mental health problems in adolescents. -The importance of intervention. -How to help a youth who is experiencing a mental health or substance use challenge. -A 5-step action plan to assist an adolescent in crisis or an adolescent that is exhibiting the signs and symptoms of mental illness. -Resources available to help adolescents with a mental health problem.
LOCATION:Elkhart County Health Department 608 Oakland Avenue Elkhart\, IN 46516
UID:e.689.20618
SEQUENCE:3
DTSTAMP:20260422T224302Z
URL:https://business.goshen.org/events/details/youth-mental-health-first-aid-20618
END:VEVENT

END:VCALENDAR
