BEGIN:VCALENDAR
VERSION:2.0
PRODID:-//ChamberMaster//Event Calendar 2.0//EN
METHOD:PUBLISH
X-PUBLISHED-TTL:P3D
REFRESH-INTERVAL:P3D
CALSCALE:GREGORIAN
BEGIN:VEVENT
DTSTART:20170814T220000Z
DTEND:20170815T000000Z
X-MICROSOFT-CDO-ALLDAYEVENT:FALSE
SUMMARY:Youth Flag Football
DESCRIPTION:This co-ed program provides young players a fun and exciting opportunity to engage in non-contact\, continuous action. The league is designed for experience and development in all aspects of football. Learn individual\, sport-oriented skills\, but also develop personally and socially\, learning teamwork and building character and life skills through sports. This is a great introductory to JFL\, and participants will learn many of the same plays. Registration is currently being accepted at the Goshen Parks Office through August 4 (or until full). League will begin the week of August 14. All of our coaches are volunteers\; they are the backbone of our program. If you or someone you know is interested in coaching\, or would like further information about flag football\, please contact Frank at 534-2901. All materials\, plays\, practice drills\, rules and support are provided. Divisions: Co-ed | 6 7 years* | 8 9 years* *Divisions may be adjusted in light of registration numbers Fee: $45 Practices: One weekday evening at Pringle Park Games: Saturdays at Pringle Park Season: Week of August 14 October 7 Equipment: Team jersey and mouthpiece will be supplied
X-ALT-DESC;FMTTYPE=text/html:This co-ed program provides young players a fun and exciting opportunity to engage in non-contact\, continuous action. The league is designed for experience and development in all aspects of football. Learn individual\, sport-oriented skills\, but also develop personally and socially\, learning teamwork and building character and life skills through sports. This is a great introductory to JFL\, and participants will learn many of the same plays. Registration is currently being accepted at the Goshen Parks Office through August 4 (or until full). League will begin the week of August 14. All of our coaches are volunteers\; they are the backbone of our program. If you or someone you know is interested in coaching\, or would like further information about flag football\, please contact Frank at 534-2901. All materials\, plays\, practice drills\, rules and support are provided. Divisions: Co-ed | 6&ndash\;7 years* | 8&ndash\;9 years* *Divisions may be adjusted in light of registration numbers Fee: $45 Practices: One weekday evening at Pringle Park Games: Saturdays at Pringle Park Season: Week of August 14&ndash\;October 7 Equipment: Team jersey and mouthpiece will be supplied
LOCATION:
UID:e.689.16654
SEQUENCE:3
DTSTAMP:20260425T040100Z
URL:https://business.goshen.org/events/details/youth-flag-football-16654
END:VEVENT

END:VCALENDAR
