BEGIN:VCALENDAR
VERSION:2.0
PRODID:-//ChamberMaster//Event Calendar 2.0//EN
METHOD:PUBLISH
X-PUBLISHED-TTL:P3D
REFRESH-INTERVAL:P3D
CALSCALE:GREGORIAN
BEGIN:VEVENT
DTSTART:20160815T160000Z
DTEND:20160815T160000Z
X-MICROSOFT-CDO-ALLDAYEVENT:FALSE
SUMMARY:Youth Flag Football
DESCRIPTION:This co-ed program provides young players a fun and exciting opportunity to engage in non-contact\, continuous action. The league is designed for experience and development in all aspects off football. Learn individual\, sport-oriented skills\, but also develop personally and socially\, learning teamwork and building character and life skills through sports. This is a great introductory to JFL\, and participants will learn many of the same plays. Equipment: Team jersey and mouthpiece will be supplied. Registration is currently being accepted at the Goshen Parks Office through August 5 or until capacity is met. All of our coaches are volunteers\; they are the backbone of our program. If you or someone you know is interested in coaching\, or would like further information about flag football\, please contact Frank at 534-2901. All materials\, plays\, practice drills\, rules and support are provided. Divisions: (Co-ed) 6?7 years 8?10 years Divisions may be adjusted in light of registration numbers Fee: $45 Practices: One weekday evening at Pringle Park Games: Saturdays at Pringle Park Season: August 15?October 8 ------------------------------------------- Goshen Parques y Recreaci n F tbol Juvenil Americano Bandera: Este programa mixto provee a los j venes jugadores una oportunidad emocionante y divertida de involucrarse en una acci n continuada sin contacto. La liga esta dise ada para la experiencia y desarrollo de todos los aspectos del f tbol. Aprenda habilidades deportivas individuales\, pero tambi n desarrollese personal y socialmente\, aprenda el trabajo en equipo y a edificar car cter y destrezas para la vida a trav s de los deportes. Es una gran introducci n a JFL y los participantes aprender n mucho de los mismos juegos. Divisiones: Mixtas 6-7 A os 8-10 A os *Las divisions pueden ser adjustadas de acuerdo al n mero de inscripciones. Inscripci n: Se require inscripci n previa y ahora esta siendo aceptada asta el 5 de Agosto o asta que se llene las inscripciones en la oficina de parques de Goshen\, 607 W. Plymouth Ave. Si tienes preguntas llame a Frank al 534-6723. Costo del programa: $45 Pr cticas/Juegos : Una tarde a la semana con los juegos los Sabados . Donde: Pringle Park\, 1912 W. Lincoln Avenue Temporada: Comiensa el 15 de Agosto asta el 8 de Octubre o asta que se llene las inscripci nes Equipo: Se proveer  una camiseta del equipo y un protector dental. *Todos nuestros entrenadores son voluntarios- ellos son la columna de nuestros juegos. Si usted o alguien gusta ser entrenador porfavor llame a Frank al 534-6723.
X-ALT-DESC;FMTTYPE=text/html:This co-ed program provides young players a fun and exciting opportunity to engage in non-contact\, continuous action. The league is designed for experience and development in all aspects off football. Learn individual\, sport-oriented skills\, but also develop personally and socially\, learning teamwork and building character and life skills through sports. This is a great introductory to JFL\, and participants will learn many of the same plays. Equipment: Team jersey and mouthpiece will be supplied. Registration is currently being accepted at the Goshen Parks Office through August 5 or until capacity is met. All of our coaches are volunteers\; they are the backbone of our program. If you or someone you know is interested in coaching\, or would like further information about flag football\, please contact Frank at 534-2901. All materials\, plays\, practice drills\, rules and support are provided. Divisions: (Co-ed) 6?7 years 8?10 years Divisions may be adjusted in light of registration numbers Fee: $45 Practices: One weekday evening at Pringle Park Games: Saturdays at Pringle Park Season: August 15?October 8 ------------------------------------------- Goshen Parques y Recreaci&oacute\;n F&uacute\;tbol Juvenil Americano Bandera: Este programa mixto provee a los j&oacute\;venes jugadores una oportunidad emocionante y divertida de involucrarse en una acci&oacute\;n continuada sin contacto. La liga esta dise&ntilde\;ada para la experiencia y desarrollo de todos los aspectos del f&uacute\;tbol. Aprenda habilidades deportivas individuales\, pero tambi&eacute\;n desarrollese personal y socialmente\, aprenda el trabajo en equipo y a edificar car&aacute\;cter y destrezas para la vida a trav&eacute\;s de los deportes. Es una gran introducci&oacute\;n a JFL y los participantes aprender&aacute\;n mucho de los mismos juegos. Divisiones: Mixtas 6-7 A&ntilde\;os 8-10 A&ntilde\;os *Las divisions pueden ser adjustadas de acuerdo al n&uacute\;mero de inscripciones. Inscripci&oacute\;n: Se require inscripci&oacute\;n previa y ahora esta siendo aceptada asta el 5 de Agosto o asta que se llene las inscripciones en la oficina de parques de Goshen\, 607 W. Plymouth Ave. Si tienes preguntas llame a Frank al 534-6723. Costo del programa: $45 Pr&aacute\;cticas/Juegos : Una tarde a la semana con los juegos los Sabados . Donde: Pringle Park\, 1912 W. Lincoln Avenue Temporada: Comiensa el 15 de Agosto asta el 8 de Octubre o asta que se llene las inscripci&oacute\;nes Equipo: Se proveer&aacute\; una camiseta del equipo y un protector dental. *Todos nuestros entrenadores son voluntarios- ellos son la columna de nuestros juegos. Si usted o alguien gusta ser entrenador porfavor llame a Frank al 534-6723.
LOCATION:Pringle Park
UID:e.689.15244
SEQUENCE:3
DTSTAMP:20260425T233639Z
URL:https://business.goshen.org/events/details/youth-flag-football-08-15-2016-15244
END:VEVENT

END:VCALENDAR
