BEGIN:VCALENDAR
VERSION:2.0
PRODID:-//ChamberMaster//Event Calendar 2.0//EN
METHOD:PUBLISH
X-PUBLISHED-TTL:P3D
REFRESH-INTERVAL:P3D
CALSCALE:GREGORIAN
BEGIN:VEVENT
DTSTART:20170821T200000Z
DTEND:20170821T233000Z
X-MICROSOFT-CDO-ALLDAYEVENT:FALSE
SUMMARY:Youth Dance Classes (Session I) start!
DESCRIPTION:Priority registration for returning dancers begins July 10 at the Goshen Park Office\, and open registration begins July 24. Registration deadline is August 11. All classes have limited enrollment\; please register early to ensure availability. Session I classes begin August 21 and end November 20\, 2017. Classes meet for 12 weeks. Classes will not meet September 4 or October 16 19. Classes are available for ages 3 through teens. Times and prices vary. For more information\, please consult the Spring & Summer 2017 Park Program Guide.
X-ALT-DESC;FMTTYPE=text/html:Priority registration for returning dancers begins July 10 at the Goshen Park Office\, and open registration begins July 24. Registration deadline is August 11. All classes have limited enrollment\; please register early to ensure availability. Session I classes begin August 21 and end November 20\, 2017. Classes meet for 12 weeks. Classes will not meet September 4 or October 16&ndash\;19. Classes are available for ages 3 through teens. Times and prices vary. For more information\, please consult the Spring &amp\; Summer 2017 Park Program Guide.
LOCATION:Goshen Theater 216 S. Main Street in Goshen Pre-registration required at Goshen park Office
UID:e.689.16628
SEQUENCE:3
DTSTAMP:20260425T035638Z
URL:https://business.goshen.org/events/details/youth-dance-classes-session-i-start-16628
END:VEVENT

END:VCALENDAR
