BEGIN:VCALENDAR
VERSION:2.0
PRODID:-//ChamberMaster//Event Calendar 2.0//EN
METHOD:PUBLISH
X-PUBLISHED-TTL:P3D
REFRESH-INTERVAL:P3D
CALSCALE:GREGORIAN
BEGIN:VEVENT
DTSTART:20170123T220000Z
DTEND:20170124T010000Z
X-MICROSOFT-CDO-ALLDAYEVENT:FALSE
SUMMARY:Youth Basketball League
DESCRIPTION:This exciting league will be the week of January 23 through March 11. All games will be played on Saturdays with one practice per week in a Goshen Community Schools gymnasium. League is co-ed and for ages 6 10\; divisions will be based on age and enrollment. Pre-registration is required and is being accepted at the Goshen Park Office now through January 11 or until league is full. Cost is $45 per player. (574) 534-2901.
X-ALT-DESC;FMTTYPE=text/html:This exciting league will be the week of January 23 through March 11. All games will be played on Saturdays with one practice per week in a Goshen Community Schools gymnasium. League is co-ed and for ages 6&ndash\;10\; divisions will be based on age and enrollment. Pre-registration is required and is being accepted at the Goshen Park Office now through January 11 or until league is full. Cost is $45 per player. (574) 534-2901.
LOCATION:
UID:e.689.16196
SEQUENCE:3
DTSTAMP:20260425T154728Z
URL:https://business.goshen.org/events/details/youth-basketball-league-16196
END:VEVENT

END:VCALENDAR
