BEGIN:VCALENDAR
VERSION:2.0
PRODID:-//ChamberMaster//Event Calendar 2.0//EN
METHOD:PUBLISH
X-PUBLISHED-TTL:P3D
REFRESH-INTERVAL:P3D
CALSCALE:GREGORIAN
BEGIN:VEVENT
DTSTART:20191103T210000Z
DTEND:20191103T230000Z
X-MICROSOFT-CDO-ALLDAYEVENT:FALSE
SUMMARY:Your Family\, Our Family
DESCRIPTION:It's all about the family! The afternoon concert begins with Mexico's most performed piece of classical music\, "Huapango" by Jos  Pablo Moncayo\, followed by a piece that every family member is sure to know. After intermission\, hear a new composition by one of America's great composers that is also a musical portrait of Maestro Groner's family. Explore the dramatic sounds of every "family" of instruments within the orchestra with Britten's "Young People's Guide to the Orchestra."
X-ALT-DESC;FMTTYPE=text/html:It&rsquo\;s all about the family! The afternoon concert begins with Mexico&rsquo\;s most performed piece of classical music\, &ldquo\;Huapango&rdquo\; by Jos&eacute\; Pablo Moncayo\, followed by a piece that every family member is sure to know. After intermission\, hear a new composition by one of America&rsquo\;s great composers that is also a musical portrait of Maestro Groner&rsquo\;s family. Explore the dramatic sounds of every &ldquo\;family&rdquo\; of instruments within the orchestra with Britten&rsquo\;s &ldquo\;Young People&rsquo\;s Guide to the Orchestra.&rdquo\;
LOCATION:The Lerner Theatre
UID:e.689.20390
SEQUENCE:3
DTSTAMP:20260423T034934Z
URL:https://business.goshen.org/events/details/your-family-our-family-20390
END:VEVENT

END:VCALENDAR
