BEGIN:VCALENDAR
VERSION:2.0
PRODID:-//ChamberMaster//Event Calendar 2.0//EN
METHOD:PUBLISH
X-PUBLISHED-TTL:P3D
REFRESH-INTERVAL:P3D
CALSCALE:GREGORIAN
BEGIN:VEVENT
DTSTART:20181116T170000Z
DTEND:20181116T190000Z
X-MICROSOFT-CDO-ALLDAYEVENT:FALSE
SUMMARY:Years of Friendship: Alice Parker & Mary Oyer
DESCRIPTION:No registration required. Free and open to the public. Nov. 16\; noon\, Rieth Recital Hall Nov. 18\; 7:00 p.m. College Mennonite Church Noted composer\, conductor and teacher Alice Parker is coming to Goshen for a festival performance of her music on Sun. evening\, Nov. 18. At noon on Fri.\, Nov. 16 at Rieth Recital Hall\, Alice and professor of music emeritus Mary Oyer will discuss Alice's musical legacy and her involvement with the Mennonite community. Rebecca Slough\, former dean at AMBS and a member of the leadership group for Hymnal: A Worship Book\, will be moderating this event\, which is jointly sponsored by the Goshen Community Chorale\, Goshen College and Lifelong Learning Institute of Elkhart County.
X-ALT-DESC;FMTTYPE=text/html:No registration required. Free and open to the public. Nov. 16\; noon\, Rieth Recital Hall Nov. 18\; 7:00 p.m. College Mennonite Church Noted composer\, conductor and teacher Alice Parker is coming to Goshen for a festival performance of her music on Sun. evening\, Nov. 18. At noon on Fri.\, Nov. 16 at Rieth Recital Hall\, Alice and professor of music emeritus Mary Oyer will discuss Alice&#39\;s musical legacy and her involvement with the Mennonite community. Rebecca Slough\, former dean at AMBS and a member of the leadership group for Hymnal: A Worship Book\, will be moderating this event\, which is jointly sponsored by the Goshen Community Chorale\, Goshen College and Lifelong Learning Institute of Elkhart County.
LOCATION:Goshen College
UID:e.689.17907
SEQUENCE:3
DTSTAMP:20260424T011036Z
URL:https://business.goshen.org/events/details/years-of-friendship-alice-parker-mary-oyer-17907
END:VEVENT

END:VCALENDAR
