BEGIN:VCALENDAR
VERSION:2.0
PRODID:-//ChamberMaster//Event Calendar 2.0//EN
METHOD:PUBLISH
X-PUBLISHED-TTL:P3D
REFRESH-INTERVAL:P3D
CALSCALE:GREGORIAN
BEGIN:VEVENT
DTSTART:20200929T160000Z
DTEND:20200929T200000Z
X-MICROSOFT-CDO-ALLDAYEVENT:FALSE
SUMMARY:WorkOne Northern Indiana Drive-Thru Job Fair
DESCRIPTION:WorkOne of Northern Indiana is hosting a Drive-Thru Job Fair!\n\n\n\nThis event is being held at CENTER six one five located at:\n\n2707 C.R. 15\n\nElkhart\, IN  46514\n\n\n\nTuesday\, September 29\, 2020 from 12p to 4p\n\nIf you have a resume\, please bring copies.  Please wear a mask and practice physical distancing per state and county mandates.\n\n\n\nMeet these employers:\n\nCarpenter\n\nD&W Inc.\n\nDayStar\n\nFairmont Homes\n\nGenesis Products\n\nHeartland\n\nPeoplelink Staffing Solutions\n\nProair\n\nSpeedway\n\nStallion\n\nStoutco\n\nTrilogy\n\nUtilimaster\n\nWire Design\n\n\n\nFREE to all job seekers\, all are welcome!
X-ALT-DESC;FMTTYPE=text/html:<p><strong>WorkOne of Northern Indiana is hosting a Drive-Thru Job Fair!</strong><br />\n<br />\nThis event is being held at CENTER six one five located at:<br />\n2707 C.R. 15<br />\nElkhart\, IN&nbsp\; 46514<br />\n<br />\nTuesday\, September 29\, 2020 from 12p to 4p</p>\n\n<p>If you have a resume\, please bring copies.&nbsp\; Please wear a mask and practice physical distancing per state&nbsp\;and county mandates.<br />\n<br />\nMeet these employers:<br />\nCarpenter<br />\nD&amp\;W Inc.<br />\nDayStar<br />\nFairmont Homes<br />\nGenesis Products<br />\nHeartland<br />\nPeoplelink Staffing Solutions<br />\nProair<br />\nSpeedway<br />\nStallion<br />\nStoutco<br />\nTrilogy<br />\nUtilimaster<br />\nWire Design<br />\n<br />\nFREE to all job seekers\, all are welcome!</p>\n
LOCATION:
UID:e.689.20999
SEQUENCE:3
DTSTAMP:20260422T095146Z
URL:https://business.goshen.org/events/details/workone-northern-indiana-drive-thru-job-fair-20999
END:VEVENT

END:VCALENDAR
