BEGIN:VCALENDAR
VERSION:2.0
PRODID:-//ChamberMaster//Event Calendar 2.0//EN
METHOD:PUBLISH
X-PUBLISHED-TTL:P3D
REFRESH-INTERVAL:P3D
CALSCALE:GREGORIAN
BEGIN:VEVENT
DTSTART:20190221T170000Z
DTEND:20190221T180000Z
X-MICROSOFT-CDO-ALLDAYEVENT:FALSE
SUMMARY:Women In Business Luncheon-Mindi Swihart-Reflections of Health\, LLC
DESCRIPTION:Mindi Swihart\, a Goshen native\, started Reflections of Health. LLC in 2003. She is a Certified Personal Fitness Trainer and Group Fitness Instructor. Mindi teaches classes throughout Elkhart County\; including Piyo\, HIIT\, Bootcamp\, and SHRED 60. She also offers one-on-one training in the comfort of her client's home. \n\n                On February 21st\, Mindi will be sharing some helpful tips for staying on track with regular exercise and healthy eating. Mindi will also be teaching some exercises you can do while at work to fit activity in throughout the day.\n\nThis luncheon will be interactive so please plan to wear comfy clothes if possible.\n\n\n\nYou can register online for this event!
X-ALT-DESC;FMTTYPE=text/html:<div style="text-align: center\;">Mindi Swihart\, a Goshen native\, started Reflections of Health. LLC in 2003. She is a Certified Personal Fitness Trainer and Group Fitness Instructor. Mindi teaches classes throughout Elkhart County\; including Piyo\, HIIT\, Bootcamp\, and SHRED 60. She also offers one-on-one training in the comfort of her client&rsquo\;s home.&nbsp\;<br />\n&nbsp\;&nbsp\;&nbsp\;&nbsp\;&nbsp\;&nbsp\;&nbsp\;&nbsp\;&nbsp\;&nbsp\;&nbsp\;&nbsp\;&nbsp\;&nbsp\;&nbsp\; On February 21st\, Mindi will be sharing some helpful tips for staying on track with regular exercise and healthy eating. Mindi will also be teaching some exercises you can do while at work to fit activity in throughout the day.<br />\n<strong>This luncheon will be interactive so please plan to wear comfy clothes if possible.<br />\n<br />\nYou can register online for this event!</strong></div>\n
LOCATION:Goshen Chamber of Commerce 232 S. Main Street Goshen\, IN 46526
UID:e.689.18520
SEQUENCE:3
DTSTAMP:20260423T200448Z
URL:https://business.goshen.org/events/details/women-in-business-luncheon-mindi-swihart-reflections-of-health-llc-18520
END:VEVENT

END:VCALENDAR
