BEGIN:VCALENDAR
VERSION:2.0
PRODID:-//ChamberMaster//Event Calendar 2.0//EN
METHOD:PUBLISH
X-PUBLISHED-TTL:P3D
REFRESH-INTERVAL:P3D
CALSCALE:GREGORIAN
BEGIN:VEVENT
DTSTART:20191121T170000Z
DTEND:20191121T180000Z
X-MICROSOFT-CDO-ALLDAYEVENT:FALSE
SUMMARY:Women In Business Luncheon-Giving back to your Community....
DESCRIPTION:Giving back to your Community....\n\nDo you ever feel a personal responsibility to help others and make your city a better place to live?  Attend our Women In Business Luncheon and find out ways to Give back to your Community by volunteering...we will have four (4) Non Profits come and talk about their volunteering needs\, plus a list of other volunteering ideas:\n\n\n\nCASA for Children\n\n\n\nHelen Calvin - CASA Director\n\nCASA is a Court appointed special advocate-to help on behalf of children who have experienced abuse or neglect. Patty Miller from   volunteers for CASA "I volunteer because it is a cause near and dear to my heart and I love kids".\n\n\n\nDress for Success\n\n\n\nSherry Klein-CEO/Executive Director\, Founder\n\nDress for Success empowers women to achieve economic independence by providing a network of support\, professional attire and the development tools to help women thrive in work and in life. \n\n\n\nBig Brothers Big Sisters\n\n\n\nMenessah Mullett\, MA\, LPC-Executive Director\n\nBig Brothers Big Sisters provides children facing adversity with strong and enduring\, professionally supported one-to-one mentoring relationships that change their lives for the better\, forever.  This mission has been the cornerstone of the organization.\n\n\n\n\n\nCouncil on Aging of Elkhart County\n\n\n\nTina Fraley-CFO\n\nCouncil on aging of Elkhart County is an agency dedicated to serving the aging and disabled in Elkhart county.  As a non-government entity funded by donations\, the opportunity to serve is dependent on community support and service.
X-ALT-DESC;FMTTYPE=text/html:<div style="text-align: center\;"><span style="font-size:14px\;"><strong><span style="background:white\;"><span style="color:#333333\;"><span style="font-family:arial\,sans-serif\;">Giving back to your Community....</span></span></span></strong><br />\n<span style="background:white\;"><span style="color:#333333\;"><span style="font-family:arial\,sans-serif\;">Do you ever feel a personal responsibility to help others and make your city a better place to live?&nbsp\; Attend our Women In Business Luncheon and find out ways to Give back to your Community by volunteering...we will have four (4) Non Profits come and talk about their volunteering needs\, plus a list of other volunteering ideas:</span></span></span><br />\n<br />\n<strong><span style="background:white\;"><span style="color:#333333\;"><span style="font-family:arial\,sans-serif\;">CASA for Children</span></span></span></strong><br />\n<br />\n<span style="background:white\;"><span style="color:#333333\;"><span style="font-family:arial\,sans-serif\;"><strong><span style="font-family:arial\,sans-serif\;">Helen Calvin - CASA Director</span></strong><br />\nCASA is a Court appointed special advocate-to help on behalf of children who have experienced abuse or neglect. Patty Miller from&nbsp\; &nbsp\;volunteers for CASA&nbsp\;&quot\;I volunteer because it is a cause near and dear to my heart and I love kids&quot\;.<br />\n<br />\n<strong><span style="font-family:arial\,sans-serif\;">Dress for Success</span></strong><br />\n<br />\n<strong><span style="font-family:arial\,sans-serif\;">Sherry Klein-CEO/Executive Director\, Founder</span></strong><br />\nDress for Success empowers women to achieve economic independence by providing a network of support\, professional attire and the development tools to help women thrive in work and in life.&nbsp\;</span></span></span><br />\n<br />\n<strong><span style="background:white\;"><span style="color:#333333\;"><span style="font-family:arial\,sans-serif\;">Big Brothers Big Sisters</span></span></span></strong><br />\n<br />\n<strong><span style="background:white\;"><span style="color:#333333\;"><span style="font-family:arial\,sans-serif\;">Menessah Mullett\, MA\, LPC-Executive Director</span></span></span></strong><br />\n<span style="background:white\;"><span style="color:#333333\;"><span style="font-family:arial\,sans-serif\;">Big Brothers Big Sisters provides children facing adversity with strong and enduring\, professionally supported one-to-one mentoring relationships that change their lives for the better\, forever.&nbsp\; This mission has been the cornerstone of the organization.</span></span></span><br />\n<br />\n<br />\n<strong><span style="background:white\;"><span style="color:#333333\;"><span style="font-family:arial\,sans-serif\;">Council on Aging of&nbsp\;Elkhart County</span></span></span></strong><br />\n<br />\n<strong><span style="background:white\;"><span style="color:#333333\;"><span style="font-family:arial\,sans-serif\;"><strong><span style="font-family:arial\,sans-serif\;">Tina Fraley-CFO</span></strong></span></span></span></strong><br />\n<span style="background:white\;"><span style="color:#333333\;"><span style="font-family:arial\,sans-serif\;">Council on aging of Elkhart County is an agency dedicated to serving the aging and disabled in Elkhart county.&nbsp\; As a non-government entity funded by donations\, the opportunity to serve is dependent on community support and service.</span></span></span><br />\n<br />\n<br />\n<br />\n<br />\n<br />\n<br />\n<br />\n<br />\n<br />\n<br />\n&nbsp\;<br style="font-variant-ligatures:normal\;font-variant-caps:normal\;orphans:2\;widows:2\;-webkit-text-stroke-width:0px\;text-decoration-style:initial\;word-spacing:0px\;" />\n&nbsp\;</span><br />\n&nbsp\;</div>\n
LOCATION:Goshen Chamber of Commerce 232 S. Main Street Goshen\, IN
UID:e.689.18546
SEQUENCE:3
DTSTAMP:20260423T035002Z
URL:https://business.goshen.org/events/details/women-in-business-luncheon-giving-back-to-your-community-18546
END:VEVENT

END:VCALENDAR
