BEGIN:VCALENDAR
VERSION:2.0
PRODID:-//ChamberMaster//Event Calendar 2.0//EN
METHOD:PUBLISH
X-PUBLISHED-TTL:P3D
REFRESH-INTERVAL:P3D
CALSCALE:GREGORIAN
BEGIN:VEVENT
DTSTART:20190523T160000Z
DTEND:20190523T170000Z
X-MICROSOFT-CDO-ALLDAYEVENT:FALSE
SUMMARY:Women In Business Luncheon-Detective Norma Alber
DESCRIPTION:Women In Business Luncheon - Guest Speaker Detective Norma Alber from the Elkhart County Sheriff's Office.\n\n\n\nDetective Alber will inform us about the Rape Aggression Defense (RAD) training class that is offered by the Sheriff's office.  Detective Alber will demonstrate some of the defensive tactics every woman needs to Know!  Detective Alber will also speak on being aware of your surroundings when going in and out of your office and other public places.\n\n\n\nPlease join us for this very informative program.
X-ALT-DESC;FMTTYPE=text/html:<div style="text-align: center\;"><strong><span style="font-size:20px\;">Women In Business Luncheon - Guest Speaker Detective Norma Alber from the Elkhart County Sheriff&#39\;s Office.<br />\n<br />\nDetective Alber will inform us about the Rape Aggression Defense (RAD) training class that is offered by the Sheriff&#39\;s office.&nbsp\; Detective Alber will demonstrate some of the defensive tactics every woman needs to Know!&nbsp\; Detective Alber will also speak on being aware of your surroundings when going in and out of your office and other public places.<br />\n<br />\nPlease join us for this very informative program.</span></strong></div>\n
LOCATION:Goshen Chamber of Comerce Building 232 S. Main Stree Goshen\, IN
UID:e.689.18530
SEQUENCE:3
DTSTAMP:20260423T164208Z
URL:https://business.goshen.org/events/details/women-in-business-luncheon-detective-norma-alber-18530
END:VEVENT

END:VCALENDAR
