BEGIN:VCALENDAR
VERSION:2.0
PRODID:-//ChamberMaster//Event Calendar 2.0//EN
METHOD:PUBLISH
X-PUBLISHED-TTL:P3D
REFRESH-INTERVAL:P3D
CALSCALE:GREGORIAN
BEGIN:VEVENT
DTSTART:20190815T160000Z
DTEND:20190815T170000Z
X-MICROSOFT-CDO-ALLDAYEVENT:FALSE
SUMMARY:Women In Business Luncheon
DESCRIPTION:Kristi Smith is Vice President of Sales and Business Development at MapleTronics and CEO at Evolveable. Over the past 20 years Kristi has been self-employed in the Accounting\, Management Consulting\, Leadership Development and now Life and Motivational Coaching industries. She has also held various Leadership positions in a variety of companies and community organizations. Kristi is passionate about inspiring others to success\, abundance and serenity\, while also understanding that embracing the edges can lead to breakthroughs.\n\n\n\n \n\nOn August 15th\, Kristi will be sharing leadership lessons she has learned through her career to help guide you to achieve more of your goals. She'll also touch a little on health\, fitness\, energy and vitality because without these\, you will struggle to enjoy everything you create.
X-ALT-DESC;FMTTYPE=text/html:&nbsp\;\n<div style="text-align: center\;"><em>Kristi Smith is Vice President of Sales and Business Development at MapleTronics and CEO at Evolveable. Over the past 20 years Kristi has been self-employed in the Accounting\, Management Consulting\, Leadership Development and now Life and Motivational Coaching industries. She has also held various Leadership positions in a variety of companies and community organizations. Kristi is passionate about inspiring others to success\, abundance and serenity\, while also understanding that embracing the edges can lead to breakthroughs.</em><br />\n<br />\n&nbsp\;</div>\n\n<div style="text-align: center\;"><em>On August 15<sup>th</sup>\, Kristi will be sharing leadership lessons she has learned through her career to help guide you to achieve more of your goals. She&rsquo\;ll also touch a little on health\, fitness\, energy and vitality because without these\, you will struggle to enjoy everything you create.</em></div>\n
LOCATION:Goshen Chamber of Commerce Building 232 S. Main Street Goshen\, IN 46526
UID:e.689.18537
SEQUENCE:3
DTSTAMP:20260423T091357Z
URL:https://business.goshen.org/events/details/women-in-business-luncheon-18537
END:VEVENT

END:VCALENDAR
