BEGIN:VCALENDAR
VERSION:2.0
PRODID:-//ChamberMaster//Event Calendar 2.0//EN
METHOD:PUBLISH
X-PUBLISHED-TTL:P3D
REFRESH-INTERVAL:P3D
CALSCALE:GREGORIAN
BEGIN:VEVENT
DTSTART;VALUE=DATE:20170113
DTEND;VALUE=DATE:20170114
TRANSP:TRANSPARENT
X-MICROSOFT-CDO-ALLDAYEVENT:TRUE
SUMMARY:Winter Astronomy
DESCRIPTION:In Winter\, there are more stars in our hemisphere than any other season\, and the cool atmosphere acts as a magnifying glass for the stars\, making them easy to spot. Join us for an evening program studying the stars. Activities include a talk about the Roman and Greek mythology behind the constellations\, a star chart workshop\, and snacks around the campfire. Preregister by calling 574-535-6458 by Thursday\, January 12 by 4 p.m.
X-ALT-DESC;FMTTYPE=text/html:In Winter\, there are more stars in our hemisphere than any other season\, and the cool atmosphere acts as a magnifying glass for the stars\, making them easy to spot. Join us for an evening program studying the stars. Activities include a talk about the Roman and Greek mythology behind the constellations\, a star chart workshop\, and snacks around the campfire. Preregister by calling 574-535-6458 by Thursday\, January 12 by 4 p.m.
LOCATION:53373 County Road 131\, Bristol\, IN 46507
UID:e.689.16397
SEQUENCE:3
DTSTAMP:20260425T154410Z
URL:https://business.goshen.org/events/details/winter-astronomy-16397
END:VEVENT

END:VCALENDAR
