BEGIN:VCALENDAR
VERSION:2.0
PRODID:-//ChamberMaster//Event Calendar 2.0//EN
METHOD:PUBLISH
X-PUBLISHED-TTL:P3D
REFRESH-INTERVAL:P3D
CALSCALE:GREGORIAN
BEGIN:VEVENT
DTSTART:20190304T150000Z
DTEND:20190304T163000Z
X-MICROSOFT-CDO-ALLDAYEVENT:FALSE
SUMMARY:Whose Land – Indigenous People or Settlers?
DESCRIPTION:The history of land in North America is most commonly viewed only through the eyes of people who settled the continent. The sessions in this series will show how the explorers' and settlers' approaches to the 'new land' was informed by the Doctrine of Discovery   a framework that gave governments moral and legal rights to invade Indigenous lands and dominate Indigenous Peoples. Topics will also include what the continent was like before 1492\, learnings from traditional ecological knowledge\, insights into the intersections of the Indigenous Peoples and settlers in Elkhart County\, and actions that can lead to right relationships between people and land. Taught by Luke Gascho Register Online: www.life-learn.org Mail or Stop in: Goshen College Box Office\, 1700 South Main Street\, Goshen\, IN 46526 (Located in the Music Center lobby\, open M-F\, 9:00 a.m.-1:00 p.m.) Phone: 574-535-7566
X-ALT-DESC;FMTTYPE=text/html:The history of land in North America is most commonly viewed only through the eyes of people who settled the continent. The sessions in this series will show how the explorers&rsquo\; and settlers&rsquo\; approaches to the &lsquo\;new land&rsquo\; was informed by the Doctrine of Discovery &ndash\; a framework that gave governments moral and legal rights to invade Indigenous lands and dominate Indigenous Peoples. Topics will also include what the continent was like before 1492\, learnings from traditional ecological knowledge\, insights into the intersections of the Indigenous Peoples and settlers in Elkhart County\, and actions that can lead to right relationships between people and land. Taught by Luke Gascho Register Online: www.life-learn.org Mail or Stop in: Goshen College Box Office\, 1700 South Main Street\, Goshen\, IN 46526 (Located in the Music Center lobby\, open M-F\, 9:00 a.m.-1:00 p.m.) Phone: 574-535-7566
LOCATION:Greencroft Goshen Community Center Jennings Auditorium
UID:e.689.18593
SEQUENCE:3
DTSTAMP:20260423T194344Z
URL:https://business.goshen.org/events/details/whose-land-indigenous-people-or-settlers-18593
END:VEVENT

END:VCALENDAR
