BEGIN:VCALENDAR
VERSION:2.0
PRODID:-//ChamberMaster//Event Calendar 2.0//EN
METHOD:PUBLISH
X-PUBLISHED-TTL:P3D
REFRESH-INTERVAL:P3D
CALSCALE:GREGORIAN
BEGIN:VEVENT
DTSTART:20180808T103000Z
DTEND:20180808T143000Z
X-MICROSOFT-CDO-ALLDAYEVENT:FALSE
SUMMARY:Wellness Wednesday
DESCRIPTION:Schedule an appointment at our next Wellness Wednesday screening event. Health screenings can give you important information. They can also identify an illness or serious health condition that may need medical care. Our healthcare professionals will answer your questions and make simple recommendations for a healthier lifestyle. Screenings available:   Blood pressure\, pulse and blood oxygen level   Diabetes risk assessment   Bone density heel scan (women over 50 only)   Body mass index   Cholesterol ($20 fee) All screenings are by appointment only\, no walk-ins will be accepted. Please call (574) 364-2496 to schedule your appointment.
X-ALT-DESC;FMTTYPE=text/html:<span style="color: rgb(51\, 51\, 51)\; font-family: sans-serif\, Arial\, Verdana\, &quot\;Trebuchet MS&quot\;\; font-size: 13px\; background-color: rgb(255\, 255\, 255)\;">Schedule an appointment at our next Wellness Wednesday screening event. Health screenings can give you important information. They can also identify an illness or serious health condition that may need medical care. Our healthcare professionals will answer your questions and make simple recommendations for a healthier lifestyle. Screenings available: &bull\; Blood pressure\, pulse and blood oxygen level &bull\; Diabetes risk assessment &bull\; Bone density heel scan (women over 50 only) &bull\; Body mass index &bull\; Cholesterol ($20 fee) All screenings are by appointment only\, no walk-ins will be accepted. Please call (574) 364-2496 to schedule your appointment.</span>
LOCATION:Community Wellness High Park building second floor 1721 South Main St. Goshen\, IN 46526
UID:e.689.17815
SEQUENCE:3
DTSTAMP:20260424T071221Z
URL:https://business.goshen.org/events/details/wellness-wednesday-17815
END:VEVENT

END:VCALENDAR
