BEGIN:VCALENDAR
VERSION:2.0
PRODID:-//ChamberMaster//Event Calendar 2.0//EN
METHOD:PUBLISH
X-PUBLISHED-TTL:P3D
REFRESH-INTERVAL:P3D
CALSCALE:GREGORIAN
BEGIN:VEVENT
DTSTART:20170109T113000Z
DTEND:20170109T133000Z
X-MICROSOFT-CDO-ALLDAYEVENT:FALSE
SUMMARY:WELLNESS CHECK CLINIC
DESCRIPTION:Attend a wellness clinic to find out more about your health. Health screenings can give you important information about your health. They can also identify an illness or serious health condition that may need medical care. Our healthcare professionals will answer your questions and can make simple recommendations for a healthier lifestyle based on your results. FREE SCREENINGS INCLUDE: bone density heel scan\, Body Mass Index\, blood pressure\, pulse and blood oxygen level and diabetes risk assessment. SCREENINGS AVAILABLE FOR A NOMINAL FEE INCLUDE: fasting cholesterol ($20).
X-ALT-DESC;FMTTYPE=text/html:Attend a wellness clinic to find out more about your health. Health screenings can give you important information about your health. They can also identify an illness or serious health condition that may need medical care. Our healthcare professionals will answer your questions and can make simple recommendations for a healthier lifestyle based on your results. FREE SCREENINGS INCLUDE: bone density heel scan\, Body Mass Index\, blood pressure\, pulse and blood oxygen level and diabetes risk assessment. SCREENINGS AVAILABLE FOR A NOMINAL FEE INCLUDE: fasting cholesterol ($20).
LOCATION:Goshen Hospital Community Wellness & Education\, Second floor 1721 South Main St. Goshen\, IN 46526
UID:e.689.16607
SEQUENCE:3
DTSTAMP:20260425T154410Z
URL:https://business.goshen.org/events/details/wellness-check-clinic-16607
END:VEVENT

END:VCALENDAR
