BEGIN:VCALENDAR
VERSION:2.0
PRODID:-//ChamberMaster//Event Calendar 2.0//EN
METHOD:PUBLISH
X-PUBLISHED-TTL:P3D
REFRESH-INTERVAL:P3D
CALSCALE:GREGORIAN
BEGIN:VEVENT
DTSTART:20170518T103000Z
DTEND:20170519T003000Z
X-MICROSOFT-CDO-ALLDAYEVENT:FALSE
SUMMARY:WELLNESS CHECK CLINIC
DESCRIPTION:ALL FOR A HEALTHIER AND HAPPIER LIFE Attend a wellness clinic to find out more about your health. Health screenings can give you important information about your health. They can also identify an illness or serious health condition that may need medical care. Our healthcare professionals will answer your questions and can make simple recommendations for a healthier lifestyle based on your results. FREE SCREENINGS INCLUDE: Bone density heel scan\, body mass index\, blood pressure\, pulse and blood oxygen level and diabetes risk assessment SCREENINGS AVAILABLE FOR A NOMINAL FEE INCLUDE: Fasting cholesterol ($20)
X-ALT-DESC;FMTTYPE=text/html:ALL FOR A HEALTHIER AND HAPPIER LIFE Attend a wellness clinic to find out more about your health. Health screenings can give you important information about your health. They can also identify an illness or serious health condition that may need medical care. Our healthcare professionals will answer your questions and can make simple recommendations for a healthier lifestyle based on your results. FREE SCREENINGS INCLUDE: Bone density heel scan\, body mass index\, blood pressure\, pulse and blood oxygen level and diabetes risk assessment SCREENINGS AVAILABLE FOR A NOMINAL FEE INCLUDE: Fasting cholesterol ($20)
LOCATION:Goshen Hospital\, Community Wellness & Education\, Second floor 1721 South Main St.\, Goshen\, IN 46526
UID:e.689.16757
SEQUENCE:3
DTSTAMP:20260425T104127Z
URL:https://business.goshen.org/events/details/wellness-check-clinic-05-18-2017-16757
END:VEVENT

END:VCALENDAR
