BEGIN:VCALENDAR
VERSION:2.0
PRODID:-//ChamberMaster//Event Calendar 2.0//EN
METHOD:PUBLISH
X-PUBLISHED-TTL:P3D
REFRESH-INTERVAL:P3D
CALSCALE:GREGORIAN
BEGIN:VEVENT
DTSTART:20170518T190000Z
DTEND:20170518T220000Z
X-MICROSOFT-CDO-ALLDAYEVENT:FALSE
SUMMARY:Welding Open House
DESCRIPTION:The Welding Open House  will give participants an opportunity to tour the campus and welding lab\, meet the instructor\, learn about the equipment\, and meet industry representative to discuss the benefits of a career in welding.  \n\nFor More Information about the Welding Program\, please contact:\n\nChad Crabtree\, PHONE:574-830-0375 ext. 4406 \n\nEMAIL: ccrabtree18@ivytech.edu
X-ALT-DESC;FMTTYPE=text/html:<span style="font-size:16pt"><span style="font-family:calibri">The Welding Open House&nbsp\; will give participants an opportunity to tour the campus and welding lab\, meet the instructor\, learn about the equipment\, and meet industry representative to discuss the benefits of a career in welding.&nbsp\; </span></span><br />\n<span style="font-size:16pt"><span style="font-family:calibri">For More Information about the Welding Program\, please contact:</span></span><br />\n<span style="font-size:16pt"><span style="font-family:calibri">Chad Crabtree\, PHONE:574-830-0375 ext. 4406 </span></span><br />\n<span style="font-size:16pt"><span style="font-family:calibri">EMAIL: ccrabtree18@ivytech.edu</span></span><br />\n&nbsp\;<br />\n&nbsp\;
LOCATION:Ivy Tech Community College - Elkhart County 22531 County Road 18 Goshen\, IN 46528
UID:e.689.16793
SEQUENCE:3
DTSTAMP:20260425T103922Z
URL:https://business.goshen.org/events/details/welding-open-house-16793
END:VEVENT

END:VCALENDAR
