BEGIN:VCALENDAR
VERSION:2.0
PRODID:-//ChamberMaster//Event Calendar 2.0//EN
METHOD:PUBLISH
X-PUBLISHED-TTL:P3D
REFRESH-INTERVAL:P3D
CALSCALE:GREGORIAN
BEGIN:VEVENT
DTSTART:20180425T124500Z
DTEND:20180425T190000Z
X-MICROSOFT-CDO-ALLDAYEVENT:FALSE
SUMMARY:Welcome to the 2018 Technology Day Open House in Michiana
DESCRIPTION:In support of  National Robotics Week 2018 https://www.nationalroboticsweek.org/\, Dronefinity and Michiana Lean cordially invite you to participate in our first Technology Day\, including Robotic Automation (Open House) for 2018. The event is planned in Elkhart (RV Capital of the World) located at Indiana Tech. 3333 Middlebury St.\, Elkhart\, IN 46516 on Wednesday\, April 25th\, 2018.  Call Michiana Lean Team at 574-361-4606 for additional details. \n\n \n\nThe event will host many companies*\, including Fanuc America\, Motoman\, CreForm\, and Wabash Electric among others. There will be multiple live demos\, as well as several presentations\, on applications such as: Robotic Welding\, Metal Forming cells\, Fiber Glass\, Robotic Painting\, AGV\, and Lean/Continuous Improvement presentations.   \n\n \n\nIn addition\, the event will host numerous consulting and MRO companies* to promote their services. Companies include: Praxair\, Michiana Lean\, etc. \n\n \n\n* The complete roster of sponsors\, co-hosts\, and speakers hasn't been finalized and may change leading up to the event at the discretion of Michiana Lean.\n\n \n\nFood and drinks will be provided along with free luncheon. Door prizes\, and giveaways such as a flat screen TV and tablet will be raffled. \n\n \n\nPlease refer to the following itinerary to plan your participation at the robotic automation event. You have the option to attend either the morning or afternoon session. Lunch will be served between the two sessions.
X-ALT-DESC;FMTTYPE=text/html:<span style="font-family:times new roman\,serif\;"><span style="font-size:14.0pt\;">In support of &nbsp\;National Robotics Week 2018 </span></span><a href="https://www.nationalroboticsweek.org/"><span style="font-family:times new roman\,serif\;"><span style="font-size:14.0pt\;">https://www.nationalroboticsweek.org/</span></span></a><span style="font-family:times new roman\,serif\;"><span style="font-size:14.0pt\;">\, Dronefinity and Michiana Lean cordially invite you to participate in our first Technology Day\, including Robotic Automation (Open House) for 2018. The event is planned in Elkhart<strong> (</strong>RV Capital of the World<strong>) </strong></span>located at Indiana Tech. 3333 Middlebury St.\, Elkhart\, IN 46516 on <strong>Wednesday\, April 25<sup>th</sup>\, 2018. </strong>&nbsp\;Call Michiana Lean Team at 574-361-4606 for additional details. </span><br />\n&nbsp\;<br />\n<span style="font-family:times new roman\,serif\;"><span style="font-size:14.0pt\;">The event will host many companies*\, including Fanuc America\, Motoman\, CreForm\, and Wabash Electric among others. There will be multiple live demos\, as well as several presentations\, on applications such as: Robotic Welding\, Metal Forming cells\, Fiber Glass\, Robotic Painting\, AGV\, and Lean/Continuous Improvement presentations.&nbsp\;&nbsp\; </span></span><br />\n&nbsp\;<br />\n<span style="font-family:times new roman\,serif\;"><span style="font-size:14.0pt\;">In addition\, the event will host numerous consulting and MRO companies* to promote their services. Companies include: Praxair\, Michiana Lean\, etc. </span></span><br />\n&nbsp\;<br />\n<em><span style="font-family:times new roman\,serif\;"><span style="font-size:14.0pt\;">* The complete roster of sponsors\, co-hosts\, and speakers hasn&rsquo\;t been finalized and may change leading up to the event at the discretion of Michiana Lean.</span></span></em><br />\n&nbsp\;<br />\n<span style="font-family:times new roman\,serif\;"><span style="font-size:14.0pt\;">Food and drinks will be provided along with <strong><u><span style="background:yellow\;">free luncheon</span></u></strong>. Door prizes\, and giveaways such as <span style="background:yellow\;">a <strong>flat screen TV and tablet</strong></span> will be raffled<strong>. </strong></span></span><br />\n&nbsp\;<br />\n<span style="font-family:times new roman\,serif\;"><span style="font-size:14.0pt\;">Please refer to the following itinerary to plan your participation at the robotic automation event. You have the option to attend either the morning or afternoon session. Lunch will be served between the two sessions. </span></span>
LOCATION:Indiana Tech 3333 Middlebury Street Elkhart\, IN
UID:e.689.17760
SEQUENCE:3
DTSTAMP:20260424T153852Z
URL:https://business.goshen.org/events/details/welcome-to-the-2018-technology-day-open-house-in-michiana-17760
END:VEVENT

END:VCALENDAR
