BEGIN:VCALENDAR
VERSION:2.0
PRODID:-//ChamberMaster//Event Calendar 2.0//EN
METHOD:PUBLISH
X-PUBLISHED-TTL:P3D
REFRESH-INTERVAL:P3D
CALSCALE:GREGORIAN
BEGIN:VEVENT
DTSTART:20170916T170000Z
DTEND:20170916T190000Z
X-MICROSOFT-CDO-ALLDAYEVENT:FALSE
SUMMARY:Weekend Bird Walk
DESCRIPTION:Witness the spectacle of fall bird migration on a bird walk in in Cobus Creek County Park. In this special weekend walk\, join experienced birders and learn ID tips as the group seeks out warblers\, raptors\, vireos\, and other migrating and resident species found in the park. The bird walk will head out at 1 p.m. sharp\, so please plan accordingly. Cost is free\, but pre-registration is required. To sign up\, call 574-535-6458 by Friday\, September 15 by 4 pm.
X-ALT-DESC;FMTTYPE=text/html:Witness the spectacle of fall bird migration on a bird walk in in Cobus Creek County Park. In this special weekend walk\, join experienced birders and learn ID tips as the group seeks out warblers\, raptors\, vireos\, and other migrating and resident species found in the park. The bird walk will head out at 1 p.m. sharp\, so please plan accordingly. Cost is free\, but pre-registration is required. To sign up\, call 574-535-6458 by Friday\, September 15 by 4 pm.
LOCATION:Cobus Creek County Park
UID:e.689.16993
SEQUENCE:3
DTSTAMP:20260425T022928Z
URL:https://business.goshen.org/events/details/weekend-bird-walk-16993
END:VEVENT

END:VCALENDAR
