BEGIN:VCALENDAR
VERSION:2.0
PRODID:-//ChamberMaster//Event Calendar 2.0//EN
METHOD:PUBLISH
X-PUBLISHED-TTL:P3D
REFRESH-INTERVAL:P3D
CALSCALE:GREGORIAN
BEGIN:VEVENT
DTSTART;VALUE=DATE:20170118
DTEND;VALUE=DATE:20170119
TRANSP:TRANSPARENT
X-MICROSOFT-CDO-ALLDAYEVENT:TRUE
SUMMARY:Wednesday Bird Walk
DESCRIPTION:Enjoy a beautiful winter stroll through Bonneyville Mills looking for sparrows\, nuthatches\, woodpeckers\, and finches. In late winter\, these hardy birds are easy to spot\, providing birders the chance to observe their interesting foraging and social behavior. Outdoor clothing\, good walking shoes/boots and binoculars are recommended.
X-ALT-DESC;FMTTYPE=text/html:Enjoy a beautiful winter stroll through Bonneyville Mills looking for sparrows\, nuthatches\, woodpeckers\, and finches. In late winter\, these hardy birds are easy to spot\, providing birders the chance to observe their interesting foraging and social behavior. Outdoor clothing\, good walking shoes/boots and binoculars are recommended.
LOCATION:53373 County Road 131\, Bristol\, IN 46507
UID:e.689.16396
SEQUENCE:3
DTSTAMP:20260425T154404Z
URL:https://business.goshen.org/events/details/wednesday-bird-walk-16396
END:VEVENT

END:VCALENDAR
