BEGIN:VCALENDAR
VERSION:2.0
PRODID:-//ChamberMaster//Event Calendar 2.0//EN
METHOD:PUBLISH
X-PUBLISHED-TTL:P3D
REFRESH-INTERVAL:P3D
CALSCALE:GREGORIAN
BEGIN:VEVENT
DTSTART:20170411T100000Z
DTEND:20170411T110000Z
X-MICROSOFT-CDO-ALLDAYEVENT:FALSE
SUMMARY:Water Aerobics Classes
DESCRIPTION:This water exercise class has something for everyone and is suitable for all fitness levels. The class includes stretch\, core training\, flexibility and balance. Because the water creates more resistance than land\, this workout is efficient and easy on the joints and one gets a great workout without sweating. Various water levels are used to create variety and to alleviate the ability to swim. Your instructor has 25 years of experience and is trained by the Aquatic Exercise Association\, an internationally acclaimed organization with the highest of standards. She believes that exercise and fitness are crucial to each individual's physical\, psychological and emotional health. Register at the Goshen Park Office or at class with your instructor. Pre-register for an entire session to receive the reduced session rate\, or take advantage of dropping in anytime throughout sessions and pay the drop-in rate of $6 per class. Class meets Tuesdays and Thursdays\, 6 7 am\, at Goshen Middle School. Fall 1: August 16- October 13 ($90) Fall 2: October 25- December 15 (no class Nov.15 or 24\; $70) Winter 1: January 3- February 2 ($50) Winter 2: February 21- March 28 ($55) Spring: April 11- May 25 ($70) Call the Park Office at (574) 534-2901 for more information
X-ALT-DESC;FMTTYPE=text/html:This water exercise class has something for everyone and is suitable for all fitness levels. The class includes stretch\, core training\, flexibility and balance. Because the water creates more resistance than land\, this workout is efficient and easy on the joints and one gets a great workout without sweating. Various water levels are used to create variety and to alleviate the ability to swim. Your instructor has 25 years of experience and is trained by the Aquatic Exercise Association\, an internationally acclaimed organization with the highest of standards. She believes that exercise and fitness are crucial to each individual&#39\;s physical\, psychological and emotional health. Register at the Goshen Park Office or at class with your instructor. Pre-register for an entire session to receive the reduced session rate\, or take advantage of dropping in anytime throughout sessions and pay the drop-in rate of $6 per class. Class meets Tuesdays and Thursdays\, 6&ndash\;7 am\, at Goshen Middle School. Fall 1: August 16- October 13 ($90) Fall 2: October 25- December 15 (no class Nov.15 or 24\; $70) Winter 1: January 3- February 2 ($50) Winter 2: February 21- March 28 ($55) Spring: April 11- May 25 ($70) Call the Park Office at (574) 534-2901 for more information
LOCATION:Goshen Middle School
UID:e.689.16193
SEQUENCE:3
DTSTAMP:20260425T103921Z
URL:https://business.goshen.org/events/details/water-aerobics-classes-04-11-2017-16193
END:VEVENT

END:VCALENDAR
