BEGIN:VCALENDAR
VERSION:2.0
PRODID:-//ChamberMaster//Event Calendar 2.0//EN
METHOD:PUBLISH
X-PUBLISHED-TTL:P3D
REFRESH-INTERVAL:P3D
CALSCALE:GREGORIAN
BEGIN:VEVENT
DTSTART:20181114T123000Z
DTEND:20181114T140000Z
X-MICROSOFT-CDO-ALLDAYEVENT:FALSE
SUMMARY:Wake Up\, Goshen! US Chamber Update!
DESCRIPTION:Please Join us for our Last Wake Up\, Goshen for 2018!\n\n\n\n\n\nKevin Courtois from the U.S. Chamber of Commerce\, Great Lakes Region will give us an update. Kevin will recap the mid-term elections and discuss implications for the lame duck session and the new Congress.  In addition to the election recap\, Kevin will highlight key federal issues important to the business community including:\n\n	Infrastructure\n	Immigration\n	Trade\n	Health Care
X-ALT-DESC;FMTTYPE=text/html:<div style="text-align: center\;"><span style="font-size:20px\;">Please Join us for our Last Wake Up\, Goshen for 2018!</span><br />\n<br />\n<br />\nKevin Courtois from the U.S. Chamber of Commerce\, Great Lakes Region will give us an update. Kevin will recap the mid-term elections and discuss implications for the lame duck session and the new Congress.&nbsp\; In addition to the election recap\, Kevin will highlight key federal issues important to the business community including:\n<ul>\n	<li style="margin-left:0in\;">Infrastructure</li>\n	<li style="margin-left:0in\;">Immigration</li>\n	<li style="margin-left:0in\;">Trade</li>\n	<li style="margin-left:0in\;">Health Care</li>\n</ul>\n</div>\n
LOCATION:Everence Financial 1110 North Main Street Goshen\, IN 46526
UID:e.689.17868
SEQUENCE:3
DTSTAMP:20260424T024937Z
URL:https://business.goshen.org/events/details/wake-up-goshen-us-chamber-update-17868
END:VEVENT

END:VCALENDAR
