BEGIN:VCALENDAR
VERSION:2.0
PRODID:-//ChamberMaster//Event Calendar 2.0//EN
METHOD:PUBLISH
X-PUBLISHED-TTL:P3D
REFRESH-INTERVAL:P3D
CALSCALE:GREGORIAN
BEGIN:VEVENT
DTSTART:20190214T123000Z
DTEND:20190214T140000Z
X-MICROSOFT-CDO-ALLDAYEVENT:FALSE
SUMMARY:Wake Up\, Goshen! - Update from the Elkhart County Commissioner Mike Yoder
DESCRIPTION:For our 1st Wake Up\, Goshen for 2019\, we will have an Update from the Elkhart County Commissioners\,  Mike Yoder\, District 2 and Suzanne Weirick\, District 3 will give us an update for 2019.  There will be a time for questions and answers.  You can register online for this event.  $20.00 for a individual ticket\, or $160.00 for a table of eight (8).  Call the chamber if you have any questions.
X-ALT-DESC;FMTTYPE=text/html:<span style="font-family:times new roman\,serif\;"><span style="font-size:12.0pt\;">For our 1<sup>st</sup> Wake Up\, Goshen for 2019\, we will have an Update from the Elkhart County Commissioners\,&nbsp\; Mike Yoder\, District 2 and Suzanne Weirick\, District 3 will give us an update for 2019.&nbsp\; There will be a time for questions and answers.&nbsp\; You can register online for this event.&nbsp\; $20.00 for a individual ticket\, or $160.00 for a table of eight (8).&nbsp\; Call the chamber if you have any questions.</span></span>
LOCATION:Spohn Ballroom 109 E. Clinton Street Goshen\, IN 46526
UID:e.689.18519
SEQUENCE:3
DTSTAMP:20260423T195814Z
URL:https://business.goshen.org/events/details/wake-up-goshen-update-from-the-elkhart-county-commissioner-mike-yoder-18519
END:VEVENT

END:VCALENDAR
