BEGIN:VCALENDAR
VERSION:2.0
PRODID:-//ChamberMaster//Event Calendar 2.0//EN
METHOD:PUBLISH
X-PUBLISHED-TTL:P3D
REFRESH-INTERVAL:P3D
CALSCALE:GREGORIAN
BEGIN:VEVENT
DTSTART:20200219T123000Z
DTEND:20200219T140000Z
X-MICROSOFT-CDO-ALLDAYEVENT:FALSE
SUMMARY:Wake Up\, Goshen! Goshen Community School
DESCRIPTION:Join us as we talk with Superintendent Dr. Diane Woodworth on the state of Goshen Community Schools.  Learn how the business community is needed in helping today's students.  Learn of different ways you can volunteer and help with the schools.  Get an update on 5/6th building (scheduled to open Fall 2021).
X-ALT-DESC;FMTTYPE=text/html:Join us as we talk with Superintendent Dr. Diane Woodworth on the state of Goshen Community Schools.&nbsp\; Learn how the business community is needed in helping today&#39\;s students.&nbsp\; Learn of different ways you can volunteer and help with the schools.&nbsp\; Get an update on 5/6th building (scheduled to open Fall 2021).
LOCATION:Bread & Chocolate Catering & Event Center 1100 Chicago Avenue (The Old Bag Factory Third Floor Goshen\, IN 46528
UID:e.689.20616
SEQUENCE:3
DTSTAMP:20260422T224138Z
URL:https://business.goshen.org/events/details/wake-up-goshen-goshen-community-school-20616
END:VEVENT

END:VCALENDAR
