BEGIN:VCALENDAR
VERSION:2.0
PRODID:-//ChamberMaster//Event Calendar 2.0//EN
METHOD:PUBLISH
X-PUBLISHED-TTL:P3D
REFRESH-INTERVAL:P3D
CALSCALE:GREGORIAN
BEGIN:VEVENT
DTSTART:20190912T113000Z
DTEND:20190912T130000Z
X-MICROSOFT-CDO-ALLDAYEVENT:FALSE
SUMMARY:Wake Up\, Goshen!
DESCRIPTION:Join us as Regina Emberton\, CEO of the South Bend-Elkhart Regional Partnership\, joins us for Wake Up Goshen to talk about our region.  Learn about the 5 pillars of the Partnership\, what they are doing\, the impacts they are having\, while also finding out about the $42.5 million LIFT Grant to our region and what that means for the business community.\n\n\n\n  These are exciting times in Goshen\, and in our region.  The Partnership will share all the great things happening that you might not know about.
X-ALT-DESC;FMTTYPE=text/html:<div style="text-align: center\;"><span style="font-size:18px\;">Join us as Regina Emberton\, CEO of the South Bend-Elkhart Regional Partnership\, joins us for Wake Up Goshen to talk about our region.&nbsp\; Learn about the 5 pillars of the Partnership\, what they are doing\, the impacts they are having\, while also finding out about the $42.5 million LIFT Grant to our region and what that means for the business community.<br />\n<br />\n&nbsp\; These are exciting times in Goshen\, and in our region.&nbsp\; The Partnership will share all the great things happening that you might not know about.&nbsp\;&nbsp\;</span></div>\n
LOCATION:The Spohn Ballroom 109 E. Clinton Street Goshen\, IN 46528 Third Floor
UID:e.689.18539
SEQUENCE:3
DTSTAMP:20260423T070900Z
URL:https://business.goshen.org/events/details/wake-up-goshen-18539
END:VEVENT

END:VCALENDAR
