BEGIN:VCALENDAR
VERSION:2.0
PRODID:-//ChamberMaster//Event Calendar 2.0//EN
METHOD:PUBLISH
X-PUBLISHED-TTL:P3D
REFRESH-INTERVAL:P3D
CALSCALE:GREGORIAN
BEGIN:VEVENT
DTSTART:20180208T123000Z
DTEND:20180208T140000Z
X-MICROSOFT-CDO-ALLDAYEVENT:FALSE
SUMMARY:Wake Up\, Goshen!
DESCRIPTION:Michilah Grimes\, Director of Philanthropic Partnerships for Lippert Components Inc (LCI) will be our guest speaker.  You may have heard about LCI's 100\,000hrs campaign last year. \n\n \n\nJoin us as we learn more about what impact that has had not only on our community\, but to LCI as well.  Learn about how you and your organization can join the Acts of Service campaign\, to help and volunteer you and your company around our community.
X-ALT-DESC;FMTTYPE=text/html:<p>Michilah Grimes\, Director of Philanthropic Partnerships for Lippert Components Inc (LCI) will be our guest speaker.&nbsp\; You may have heard about LCI&#39\;s 100\,000hrs campaign last year.&nbsp\;<br />\n&nbsp\;</p>\n\n<p>Join us as we learn more about what impact that has had not only on our community\, but to LCI as well.&nbsp\; Learn about how you and your organization can join the Acts of Service campaign\, to help and volunteer you and your company around our community.&nbsp\;&nbsp\;&nbsp\;&nbsp\;&nbsp\;&nbsp\;&nbsp\;&nbsp\;&nbsp\;&nbsp\;&nbsp\;&nbsp\;&nbsp\;&nbsp\;&nbsp\;&nbsp\;&nbsp\;&nbsp\;&nbsp\;&nbsp\;&nbsp\;&nbsp\;&nbsp\;&nbsp\;&nbsp\;&nbsp\;&nbsp\;&nbsp\;&nbsp\;&nbsp\;&nbsp\;&nbsp\;</p>\n
LOCATION:Spohn Ballroom 109 E. Clinton St. Goshen\, IN 46526
UID:e.689.17642
SEQUENCE:3
DTSTAMP:20260424T201505Z
URL:https://business.goshen.org/events/details/wake-up-goshen-17642
END:VEVENT

END:VCALENDAR
