BEGIN:VCALENDAR
VERSION:2.0
PRODID:-//ChamberMaster//Event Calendar 2.0//EN
METHOD:PUBLISH
X-PUBLISHED-TTL:P3D
REFRESH-INTERVAL:P3D
CALSCALE:GREGORIAN
BEGIN:VEVENT
DTSTART:20160915T113000Z
DTEND:20160915T130000Z
X-MICROSOFT-CDO-ALLDAYEVENT:FALSE
SUMMARY:Wake Up\, Goshen
DESCRIPTION:Wake Up Goshen set for Thursday\, September 15 with Special Guest Morton Marcus\n\n\n\nIn the early 90's\, famed economist Morton Marcus was a guest of the Goshen Chamber for our Annual Meeting.  He spoke on the community\, workforce\, and potential for the area.  We have invited him back to see how far we have come\, what challenges maybe ahead\, and where we might be going.  So join us on Thursday\, September 15th at Greencroft Senior Center at 7:30am for this special update from the syndicated columnist himself\, Morton Marcus.\n\n\n\nMorton J. Marcus is the former director of the Indiana Business Research Center in the Kelley School of Business.  He has been actively involved in local and state economic development efforts since 1970.\n\n\n\nIn addition to teaching economics at Indiana University for 33 years\, Mr. Marcus advised six Indiana governors on taxation and economic development.  None of his advice has been taken. He even has been a consultant to the Economic Development Corporation of Elkhart County.  \n\n\n\nMorton writes a popular weekly column for 20+ Indiana newspapers including the Goshen News.  A native of Brooklyn (NY)\, Morton has earned degrees in Economics from Roosevelt University (Chicago)\, Washington University (St. Louis) and the University of California (Los Angeles).
X-ALT-DESC;FMTTYPE=text/html:<strong><span style="font-size: 14pt\;"><span style="font-family: arial\,sans-serif\;"><span style="color: maroon\;">Wake Up Goshen set for Thursday\, September 15 with Special Guest Morton Marcus</span></span></span></strong><br />\n<br />\n<span style="font-size: 10pt\;"><span style="font-family: arial\,sans-serif\;"><span style="color: rgb(69\, 69\, 69)\;">In the early 90&#39\;s\, famed economist Morton Marcus was a guest of the Goshen Chamber for our Annual Meeting. &nbsp\;He spoke on the community\, workforce\, and potential for the area. &nbsp\;We have invited him back to see how far we have come\, what challenges maybe ahead\, and where we might be going. &nbsp\;So join us on Thursday\, September 15th at Greencroft Senior Center at 7:30am for this special update from the syndicated columnist himself\, Morton Marcus.</span></span></span><br />\n<br />\nMorton J. Marcus is the former director of the Indiana Business Research Center in the Kelley School of Business.&nbsp\; He has been actively involved in local and state economic development efforts since 1970.<br />\n<br />\nIn addition to teaching economics at Indiana University for 33 years\, Mr. Marcus advised six Indiana governors on taxation and economic development.&nbsp\; None of his advice has been taken. He even has been a consultant to the Economic Development Corporation of Elkhart County. &nbsp\;<br />\n<br />\nMorton writes a popular weekly column for 20+ Indiana newspapers including the Goshen News.&nbsp\; A native of Brooklyn (NY)\, Morton has earned degrees in Economics from Roosevelt University (Chicago)\, Washington University (St. Louis) and the University of California (Los Angeles).<br />\n<br />\n&nbsp\;
LOCATION:Greencroft Senior Center 1721 Greencroft Blvd Goshen\, IN 46526
UID:e.689.16167
SEQUENCE:3
DTSTAMP:20260425T234421Z
URL:https://business.goshen.org/events/details/wake-up-goshen-09-15-2016-16167
END:VEVENT

END:VCALENDAR
