BEGIN:VCALENDAR
VERSION:2.0
PRODID:-//ChamberMaster//Event Calendar 2.0//EN
METHOD:PUBLISH
X-PUBLISHED-TTL:P3D
REFRESH-INTERVAL:P3D
CALSCALE:GREGORIAN
BEGIN:VEVENT
DTSTART:20190529T153000Z
DTEND:20190529T170000Z
X-MICROSOFT-CDO-ALLDAYEVENT:FALSE
SUMMARY:Wake Up\, Goshen
DESCRIPTION:Developer Scott Sivan of INSITE Architecture & Design will be our guest and speaker for this Wake Up Goshen.  Mr. Sivan will discuss his development projects slated for the Goshen Mill Race Canel area as well as touching on developing around the world\, and why he chose Goshen.  You won't want to miss out on this great opportunity to learn about his vision and passion for the Goshen project\, as well as his passon for developing.
X-ALT-DESC;FMTTYPE=text/html:<div style="text-align: center\;"><span style="font-size:20px\;">Developer Scott Sivan of INSITE&nbsp\;Architecture&nbsp\;&amp\; Design will be our guest and speaker for this Wake Up Goshen.&nbsp\; Mr. Sivan will discuss his development projects slated for the Goshen Mill Race Canel area as well as touching on developing around the world\, and why he chose Goshen.&nbsp\; You won&#39\;t want to miss out on this great opportunity to learn about his vision and passion for the Goshen project\, as well as his passon for developing.</span></div>\n
LOCATION:Bread & Chocolate at TheOld Bag Factory 1100 Chicago Avenue 3rd Floor Goshen\, IN 46528
UID:e.689.19233
SEQUENCE:3
DTSTAMP:20260423T151048Z
URL:https://business.goshen.org/events/details/wake-up-goshen-05-29-2019-19233
END:VEVENT

END:VCALENDAR
