BEGIN:VCALENDAR
VERSION:2.0
PRODID:-//ChamberMaster//Event Calendar 2.0//EN
METHOD:PUBLISH
X-PUBLISHED-TTL:P3D
REFRESH-INTERVAL:P3D
CALSCALE:GREGORIAN
BEGIN:VEVENT
DTSTART:20200410T140000Z
DTEND:20200410T150000Z
X-MICROSOFT-CDO-ALLDAYEVENT:FALSE
SUMMARY:Virtual Town Hall with Senator Todd Young
DESCRIPTION:Senator Todd Young will joins us virtually for a town hall to discuss the Covid-19 crisis and the CARES Act.  He will share his insights on the current situation\, update us on the CARES Act\, specifically the Payroll Protection Program\, and discuss the pre\, current\, and post COVID-19 economy.
X-ALT-DESC;FMTTYPE=text/html:<span style="font-size:14px\;">Senator Todd Young will joins us virtually for a town hall to discuss the Covid-19 crisis and the CARES Act.&nbsp\;&nbsp\;<span style="font-family:arial\,sans-serif\;">He will share his insights on the current situation\, update us on the CARES Act\, specifically the Payroll Protection Program\, and discuss the pre\, current\, and post COVID-19 economy.</span></span>
LOCATION:
UID:e.689.20954
SEQUENCE:3
DTSTAMP:20260422T204912Z
URL:https://business.goshen.org/events/details/virtual-town-hall-with-senator-todd-young-20954
END:VEVENT

END:VCALENDAR
