BEGIN:VCALENDAR
VERSION:2.0
PRODID:-//ChamberMaster//Event Calendar 2.0//EN
METHOD:PUBLISH
X-PUBLISHED-TTL:P3D
REFRESH-INTERVAL:P3D
CALSCALE:GREGORIAN
BEGIN:VEVENT
DTSTART:20190610T133000Z
DTEND:20190614T160000Z
X-MICROSOFT-CDO-ALLDAYEVENT:FALSE
SUMMARY:Vacation Bible School - To Mars and Beyond
DESCRIPTION:This is an event for children ages 4 - 5th Grade\, during the week of June 10-14\, from 9:30 a.m.-Noon. During the week the children will learn what it means to\, Go Beyond With God. At To Mars And Beyond VBS\, children will be encouraged to believe that with God all things are possible. They can be the change they wish to see in the world!
X-ALT-DESC;FMTTYPE=text/html:This is an event for children ages 4 - 5th Grade\, during the week of June 10-14\, from 9:30 a.m.-Noon. During the week the children will learn what it means to\, Go Beyond With God. At To Mars And Beyond VBS\, children will be encouraged to believe that with God all things are possible. They can be the change they wish to see in the world!
LOCATION:Harvest Community Church 17285 CR 34 Goshen\, IN 46528
UID:e.689.19329
SEQUENCE:3
DTSTAMP:20260423T125131Z
URL:https://business.goshen.org/events/details/vacation-bible-school-to-mars-and-beyond-19329
END:VEVENT

END:VCALENDAR
