BEGIN:VCALENDAR
VERSION:2.0
PRODID:-//ChamberMaster//Event Calendar 2.0//EN
METHOD:PUBLISH
X-PUBLISHED-TTL:P3D
REFRESH-INTERVAL:P3D
CALSCALE:GREGORIAN
BEGIN:VEVENT
DTSTART:20171123T113000Z
DTEND:20171123T153000Z
X-MICROSOFT-CDO-ALLDAYEVENT:FALSE
SUMMARY:Turkey Stampede Benfiting Faith Mission
DESCRIPTION:8:30a-10K Run\; 8:35a-5K Run\; 8:40a-Walk\; 8:45a-1 mile Walk. $25 if you can "Catch the Turkey!" Ribbons to all finishers. For more information contact StoneSoupPromotions.com for all race details\, registration and packet pickup\, Paula@StoneSoupPromotions.com or 574-293-1683.
X-ALT-DESC;FMTTYPE=text/html:8:30a-10K Run\; 8:35a-5K Run\; 8:40a-Walk\; 8:45a-1 mile Walk. $25 if you can &quot\;Catch the Turkey!&quot\; Ribbons to all finishers. For more information contact StoneSoupPromotions.com for all race details\, registration and packet pickup\, <a href="mailto:Paula@StoneSoupPromotions.com">Paula@StoneSoupPromotions.com</a> or 574-293-1683.
LOCATION:Concord Mall 3701 S. Main Street Elkhart\, IN 46517 574-875-6502
UID:e.689.17447
SEQUENCE:3
DTSTAMP:20260424T231448Z
URL:https://business.goshen.org/events/details/turkey-stampede-benfiting-faith-mission-17447
END:VEVENT

END:VCALENDAR
