BEGIN:VCALENDAR
VERSION:2.0
PRODID:-//ChamberMaster//Event Calendar 2.0//EN
METHOD:PUBLISH
X-PUBLISHED-TTL:P3D
REFRESH-INTERVAL:P3D
CALSCALE:GREGORIAN
BEGIN:VEVENT
DTSTART:20161124T120000Z
DTEND:20161124T150000Z
X-MICROSOFT-CDO-ALLDAYEVENT:FALSE
SUMMARY:Turkey Stampede Benefitting Faith Mission
DESCRIPTION:7-8am On-Site Registration next to Louie's Tux.\n\n8:30a-10K Run\; 8:35a-5K Run or Walk\; 8:38a-1mile Run or Walk. $25 if you can "Catch the Turkey!" Ribbons to all finishers. For more information contact Paula@StoneSoupPromotions.com\, all race details at StoneSoupPromotions.com\, Phone: 574-293-1683.
X-ALT-DESC;FMTTYPE=text/html:7-8am On-Site Registration next to Louie&#39\;s Tux.<br />\n8:30a-10K Run\; 8:35a-5K Run or Walk\; 8:38a-1mile Run or Walk. $25 if you can &quot\;Catch the Turkey!&quot\; Ribbons to all finishers. For more information contact <a href="mailto:Paula@StoneSoupPromotions.com">Paula@StoneSoupPromotions.com</a>\, all race details at StoneSoupPromotions.com\, Phone: 574-293-1683.
LOCATION:Concord Mall 3701 S. Main Street Elkhart\, IN 46517 574-875-6502
UID:e.689.16285
SEQUENCE:3
DTSTAMP:20260425T204726Z
URL:https://business.goshen.org/events/details/turkey-stampede-benefitting-faith-mission-16285
END:VEVENT

END:VCALENDAR
