BEGIN:VCALENDAR
VERSION:2.0
PRODID:-//ChamberMaster//Event Calendar 2.0//EN
METHOD:PUBLISH
X-PUBLISHED-TTL:P3D
REFRESH-INTERVAL:P3D
CALSCALE:GREGORIAN
BEGIN:VEVENT
DTSTART:20171029T200000Z
DTEND:20171029T210000Z
X-MICROSOFT-CDO-ALLDAYEVENT:FALSE
SUMMARY:Trunk-or-Treat
DESCRIPTION:Wear your Halloween Costume and bring your friends. This is alternative for kids\, so they don't have to go door-to-door.
X-ALT-DESC;FMTTYPE=text/html:Wear your Halloween Costume and bring your friends. This is alternative for kids\, so they don&#39\;t have to go door-to-door.
LOCATION:Elkhart Calvary United Methodist Church
UID:e.689.17438
SEQUENCE:3
DTSTAMP:20260425T005007Z
URL:https://business.goshen.org/events/details/trunk-or-treat-17438
END:VEVENT

END:VCALENDAR
