BEGIN:VCALENDAR
VERSION:2.0
PRODID:-//ChamberMaster//Event Calendar 2.0//EN
METHOD:PUBLISH
X-PUBLISHED-TTL:P3D
REFRESH-INTERVAL:P3D
CALSCALE:GREGORIAN
BEGIN:VEVENT
DTSTART:20181026T223000Z
DTEND:20181027T000000Z
X-MICROSOFT-CDO-ALLDAYEVENT:FALSE
SUMMARY:Trun or Treat
DESCRIPTION:Trunk or Treat Star Wars Style! A Fun\, FREE\, Family Event Friday\, October 26 @ 6:30-8pm Get your picture taken with Darth Vader or Princess Leia! If it rains\, we will be inside. Sponsored by Kingdom Kids Early Learning Center at Faith United Methodist Church\, 22045 CR 18\, Goshen (Beside IVY Tech)
X-ALT-DESC;FMTTYPE=text/html:Trunk or Treat Star Wars Style! A Fun\, FREE\, Family Event Friday\, October 26 @ 6:30-8pm Get your picture taken with Darth Vader or Princess Leia! If it rains\, we will be inside. Sponsored by Kingdom Kids Early Learning Center at Faith United Methodist Church\, 22045 CR 18\, Goshen (Beside IVY Tech)
LOCATION:Faith United Methodist Church 22045 CR 18\, Goshen
UID:e.689.18233
SEQUENCE:3
DTSTAMP:20260424T022727Z
URL:https://business.goshen.org/events/details/trun-or-treat-18233
END:VEVENT

END:VCALENDAR
