BEGIN:VCALENDAR
VERSION:2.0
PRODID:-//ChamberMaster//Event Calendar 2.0//EN
METHOD:PUBLISH
X-PUBLISHED-TTL:P3D
REFRESH-INTERVAL:P3D
CALSCALE:GREGORIAN
BEGIN:VEVENT
DTSTART:20170206T233000Z
DTEND:20170207T010000Z
X-MICROSOFT-CDO-ALLDAYEVENT:FALSE
SUMMARY:Triple P Seminar: "Raising Resilient Children"
DESCRIPTION:Can parents really reduce stress and gain more time by using the Power of Positive Parenting? YES. Find a little bit of time to attend this seminar delivered in English by Jodie Lantz and en Espanol by Amparo Hernandez at 6:30 p.m. on Monday\, Feb. 6. To register\, go to www.triplep-parenting.net/elkhartcounty and scroll down to the bottom of the page where it says "Find Your Triple P Session" or call Triple P in Elkhart County at (574) 226-0160 with questions. This event is free of charge and open to the public. Child care and snacks are provided.
X-ALT-DESC;FMTTYPE=text/html:Can parents really reduce stress and gain more time by using the Power of Positive Parenting? YES. Find a little bit of time to attend this seminar delivered in English by Jodie Lantz and en Espanol by Amparo Hernandez at 6:30 p.m. on Monday\, Feb. 6. To register\, go to www.triplep-parenting.net/elkhartcounty and scroll down to the bottom of the page where it says &ldquo\;Find Your Triple P Session&rdquo\; or call Triple P in Elkhart County at (574) 226-0160 with questions. This event is free of charge and open to the public. Child care and snacks are provided.
LOCATION:West Goshen Elementary School\, 215 Dewey Ave.\, Goshen
UID:e.689.16381
SEQUENCE:3
DTSTAMP:20260425T141130Z
URL:https://business.goshen.org/events/details/triple-p-seminar-raising-resilient-children-16381
END:VEVENT

END:VCALENDAR
