BEGIN:VCALENDAR
VERSION:2.0
PRODID:-//ChamberMaster//Event Calendar 2.0//EN
METHOD:PUBLISH
X-PUBLISHED-TTL:P3D
REFRESH-INTERVAL:P3D
CALSCALE:GREGORIAN
BEGIN:VEVENT
DTSTART:20180816T220000Z
DTEND:20180817T000000Z
X-MICROSOFT-CDO-ALLDAYEVENT:FALSE
SUMMARY:Triple P® POSITIVE PARENTING PROGRAM
DESCRIPTION:SMALL CHANGES\, BIG DIFFERENCES The Triple P   Positive Parenting Program   is one of the world's most effective parenting programs\, used in over 25 countries. It is one of the only parenting programs based on evidence from ongoing scientific research. Triple P is designed to give parents the skills they need to raise confident\, healthy children and to build stronger family relationships. Triple P Discussion Groups are for parents of children up to 12 years old. Classes are free and space is limited. Sign up today! Positive parenting help for:   Dealing with Disobedience August 16 6:00-8:00 p.m.   Managing Fighting and Aggression September 18 6:00-8:00 p.m.   Developing Good Bedtime Routines October 18 6:00-8:00 p.m.   Hassle-free Shopping with Children November 15 6:00-8:00 p.m. Please go to GoshenHealth.com/Find-Events or call (877) 566-4660 to register for a class. For more information\, please call (574) 364-2582.
X-ALT-DESC;FMTTYPE=text/html:SMALL CHANGES\, BIG DIFFERENCES The Triple P &ndash\; Positive Parenting Program &reg\; is one of the world&rsquo\;s most effective parenting programs\, used in over 25 countries. It is one of the only parenting programs based on evidence from ongoing scientific research. Triple P is designed to give parents the skills they need to raise confident\, healthy children and to build stronger family relationships. Triple P Discussion Groups are for parents of children up to 12 years old. Classes are free and space is limited. Sign up today! Positive parenting help for: &bull\; Dealing with Disobedience August 16 6:00-8:00 p.m. &bull\; Managing Fighting and Aggression September 18 6:00-8:00 p.m. &bull\; Developing Good Bedtime Routines October 18 6:00-8:00 p.m. &bull\; Hassle-free Shopping with Children November 15 6:00-8:00 p.m. Please go to GoshenHealth.com/Find-Events or call (877) 566-4660 to register for a class. For more information\, please call (574) 364-2582.
LOCATION:Goshen Hospital 200 Park Ave. Goshen\, IN Birch/Walnut Room Cost is FREE\, Preregistration required
UID:e.689.17862
SEQUENCE:3
DTSTAMP:20260424T071350Z
URL:https://business.goshen.org/events/details/triple-p-positive-parenting-program-08-16-2018-17862
END:VEVENT

END:VCALENDAR
