BEGIN:VCALENDAR
VERSION:2.0
PRODID:-//ChamberMaster//Event Calendar 2.0//EN
METHOD:PUBLISH
X-PUBLISHED-TTL:P3D
REFRESH-INTERVAL:P3D
CALSCALE:GREGORIAN
BEGIN:VEVENT
DTSTART:20180419T220000Z
DTEND:20180420T000000Z
X-MICROSOFT-CDO-ALLDAYEVENT:FALSE
SUMMARY:Triple P – Positive Parenting Program ®
DESCRIPTION:The Triple P   Positive Parenting Program   is one of the world's most effective parenting programs\, used in over 25 countries. It is one of the only parenting programs based on evidence from ongoing scientific research. Triple P is designed to give parents the skills they need to raise confident\, healthy children and to build stronger family relationships. Triple P Discussion Groups are for parents of children up to 12 years old. Classes are free and space is limited. Sign up today!
X-ALT-DESC;FMTTYPE=text/html:The Triple P &ndash\; Positive Parenting Program &reg\; is one of the world&rsquo\;s most effective parenting programs\, used in over 25 countries. It is one of the only parenting programs based on evidence from ongoing scientific research. Triple P is designed to give parents the skills they need to raise confident\, healthy children and to build stronger family relationships. Triple P Discussion Groups are for parents of children up to 12 years old. Classes are free and space is limited. Sign up today!
LOCATION:Goshen Hospital 200 Park Ave. Goshen\, IN Birch/Walnut Room
UID:e.689.17640
SEQUENCE:3
DTSTAMP:20260424T153452Z
URL:https://business.goshen.org/events/details/triple-p-positive-parenting-program-04-19-2018-17640
END:VEVENT

END:VCALENDAR
