BEGIN:VCALENDAR
VERSION:2.0
PRODID:-//ChamberMaster//Event Calendar 2.0//EN
METHOD:PUBLISH
X-PUBLISHED-TTL:P3D
REFRESH-INTERVAL:P3D
CALSCALE:GREGORIAN
BEGIN:VEVENT
DTSTART;VALUE=DATE:20211029
DTEND;VALUE=DATE:20211030
TRANSP:TRANSPARENT
X-MICROSOFT-CDO-ALLDAYEVENT:TRUE
SUMMARY:Trick or Treat Main Street (Downtown Goshen)
DESCRIPTION:Always a "spooktacular" community event\, children of all ages will enjoy trick or treating in a family-friendly environment.  Our downtown business district is alive and thriving and a wonderful showcase for this annual day of fun.
X-ALT-DESC;FMTTYPE=text/html:Always a &quot\;spooktacular&quot\; community event\, children of all ages will enjoy trick or treating in a family-friendly environment.&nbsp\; Our downtown business district is alive and thriving and a wonderful showcase for this annual day of fun.&nbsp\;&nbsp\;
LOCATION:Downtown Goshen
UID:e.689.21491
SEQUENCE:3
DTSTAMP:20260421T120209Z
URL:https://business.goshen.org/events/details/trick-or-treat-main-street-downtown-goshen-21491
END:VEVENT

END:VCALENDAR
