BEGIN:VCALENDAR
VERSION:2.0
PRODID:-//ChamberMaster//Event Calendar 2.0//EN
METHOD:PUBLISH
X-PUBLISHED-TTL:P3D
REFRESH-INTERVAL:P3D
CALSCALE:GREGORIAN
BEGIN:VEVENT
DTSTART:20161027T220000Z
DTEND:20161027T230000Z
X-MICROSOFT-CDO-ALLDAYEVENT:FALSE
SUMMARY:Treat Night
DESCRIPTION:Treat Night: Children will receive treats from our Quality Retailers.
X-ALT-DESC;FMTTYPE=text/html:Treat Night: Children will receive treats from our Quality Retailers.
LOCATION:Concord Mall 3701 S. Main Street Elkhart\, IN 46517 574-875-6502
UID:e.689.16232
SEQUENCE:3
DTSTAMP:20260425T220430Z
URL:https://business.goshen.org/events/details/treat-night-16232
END:VEVENT

END:VCALENDAR
