BEGIN:VCALENDAR
VERSION:2.0
PRODID:-//ChamberMaster//Event Calendar 2.0//EN
METHOD:PUBLISH
X-PUBLISHED-TTL:P3D
REFRESH-INTERVAL:P3D
CALSCALE:GREGORIAN
BEGIN:VEVENT
DTSTART:20171202T120000Z
DTEND:20171202T150000Z
X-MICROSOFT-CDO-ALLDAYEVENT:FALSE
SUMMARY:Toys for Tots with WNDU TV and the Marines
DESCRIPTION:Join WNDU TV and the Marines to support Toys for Tots.  Drop off your toy or cash donation at the main entrance of the Concord Mall.
X-ALT-DESC;FMTTYPE=text/html:Join WNDU TV and the Marines to support Toys for Tots.&nbsp\; Drop off your toy or cash donation at the main entrance of the Concord Mall.
LOCATION:Concord Mall 3701 S. Main Street Elkhart\, IN 46517 574-875-6502
UID:e.689.17605
SEQUENCE:3
DTSTAMP:20260424T215347Z
URL:https://business.goshen.org/events/details/toys-for-tots-with-wndu-tv-and-the-marines-17605
END:VEVENT

END:VCALENDAR
