BEGIN:VCALENDAR
VERSION:2.0
PRODID:-//ChamberMaster//Event Calendar 2.0//EN
METHOD:PUBLISH
X-PUBLISHED-TTL:P3D
REFRESH-INTERVAL:P3D
CALSCALE:GREGORIAN
BEGIN:VEVENT
DTSTART:20170124T150000Z
DTEND:20170124T170000Z
X-MICROSOFT-CDO-ALLDAYEVENT:FALSE
SUMMARY:Town Meetings
DESCRIPTION:This year Goshen's Town Meeting will be held the last week of January. Residents are welcome and encouraged to attend.\n\n \n\nMayor Jeremy Stutsman says\, "I invite and encourage residents to attend the annual Town Meeting. I am looking forward to speaking with residents and listening to their concerns\, as well as sharing pertinent information with them. Residents' input is vital if we're to move forward in ways that are positive and that enhance community values."\n\n \n\nThe meeting will begin with a short presentation\, recapping the first year of Mayor Stutsman's first term in office. A time for questions and answers will be included. The two presentations will be similar\, but presented on different days to allow opportunity for the most number of residents to attend. Meeting details are:\n\n \n\nMonday\, January 23 at 10 a.m.\n\nGreencroft Community Center\, Jennings Auditorium\n\n1820 Greencroft Blvd.\n\n \n\nTuesday\, January 24 at 6 p.m.\n\nGoshen Public Library\, Auditorium\n\n601 S. Fifth St.\n\n \n\nIf you have any questions contact City Hall at switchboard@goshencity.com or 533.8621.
X-ALT-DESC;FMTTYPE=text/html:This year Goshen&rsquo\;s Town Meeting will be held the last week of January. Residents are welcome and encouraged to attend.<br />\n&nbsp\;<br />\nMayor Jeremy Stutsman says\, &ldquo\;I invite and encourage residents to attend the annual Town Meeting. I am looking forward to speaking with residents and listening to their concerns\, as well as sharing pertinent information with them. Residents&rsquo\; input is vital if we&rsquo\;re to move forward in ways that are positive and that enhance community values.&rdquo\;<br />\n&nbsp\;<br />\nThe meeting will begin with a short presentation\, recapping the first year of Mayor Stutsman&rsquo\;s first term in office. A time for questions and answers will be included. The two presentations will be similar\, but presented on different days to allow opportunity for the most number of residents to attend. Meeting details are:<br />\n&nbsp\;<br />\n<strong>Monday\, January 23 at 10 a.m.</strong><br />\nGreencroft Community Center\, Jennings Auditorium<br />\n1820 Greencroft Blvd.<br />\n&nbsp\;<br />\n<strong>Tuesday\, January 24 at 6 p.m.</strong><br />\nGoshen Public Library\, Auditorium<br />\n601 S. Fifth St.<br />\n&nbsp\;<br />\nIf you have any questions contact City Hall at <em>switchboard@goshencity.com</em> or 533.8621.
LOCATION:Greencroft Community Center\, Jennings Auditorium 1820 Greencroft Blvd.
UID:e.689.16604
SEQUENCE:3
DTSTAMP:20260425T154412Z
URL:https://business.goshen.org/events/details/town-meetings-16604
END:VEVENT

END:VCALENDAR
