BEGIN:VCALENDAR
VERSION:2.0
PRODID:-//ChamberMaster//Event Calendar 2.0//EN
METHOD:PUBLISH
X-PUBLISHED-TTL:P3D
REFRESH-INTERVAL:P3D
CALSCALE:GREGORIAN
BEGIN:VEVENT
DTSTART:20180908T140000Z
DTEND:20180908T180000Z
X-MICROSOFT-CDO-ALLDAYEVENT:FALSE
SUMMARY:Touch-A-Truck
DESCRIPTION:Touch-A-Truck: A Free Family Event for Everyone! Get up close to your favorite big machines - semi's\, dump trucks\, fire trucks\, a helicopter\, police cars\, tractors and more! All happening on Saturday\, September 8 from 10-2. Food will be available for purchase onsite. Picnics are welcome!
X-ALT-DESC;FMTTYPE=text/html:Touch-A-Truck: A Free Family Event for Everyone! Get up close to your favorite big machines - semi&#39\;s\, dump trucks\, fire trucks\, a helicopter\, police cars\, tractors and more! All happening on Saturday\, September 8 from 10-2. Food will be available for purchase onsite. Picnics are welcome!
LOCATION:Faith United Methodist Church 22045 County Road 18 Goshen IN 46528
UID:e.689.17920
SEQUENCE:3
DTSTAMP:20260424T044931Z
URL:https://business.goshen.org/events/details/touch-a-truck-17920
END:VEVENT

END:VCALENDAR
