BEGIN:VCALENDAR
VERSION:2.0
PRODID:-//ChamberMaster//Event Calendar 2.0//EN
METHOD:PUBLISH
X-PUBLISHED-TTL:P3D
REFRESH-INTERVAL:P3D
CALSCALE:GREGORIAN
BEGIN:VEVENT
DTSTART:20190914T140000Z
DTEND:20190914T180000Z
X-MICROSOFT-CDO-ALLDAYEVENT:FALSE
SUMMARY:Touch-A-Truck
DESCRIPTION:Free Community Event @ Faith UMC\, 22045 CR 18\, Goshen. Get up close to your favorite big machines! We are expecting semis\, dump trucks\, fire trucks\, and more!* All happening on Saturday\, September 14 from 10-2. We will have quiet hour (no flashing lights or sirens) from 10-11am. Overflow parking available at Ivy Tech! *Emergency vehicles are contingent upon availability (no emergencies).
X-ALT-DESC;FMTTYPE=text/html:Free Community Event @ Faith UMC\, 22045 CR 18\, Goshen. Get up close to your favorite big machines! We are expecting semis\, dump trucks\, fire trucks\, and more!* All happening on Saturday\, September 14 from 10-2. We will have quiet hour (no flashing lights or sirens) from 10-11am. Overflow parking available at Ivy Tech! *Emergency vehicles are contingent upon availability (no emergencies).
LOCATION:Faith United Methodist Church 22045 CR 18\, Goshen
UID:e.689.20380
SEQUENCE:3
DTSTAMP:20260423T071910Z
URL:https://business.goshen.org/events/details/touch-a-truck-09-14-2019-20380
END:VEVENT

END:VCALENDAR
