BEGIN:VCALENDAR
VERSION:2.0
PRODID:-//ChamberMaster//Event Calendar 2.0//EN
METHOD:PUBLISH
X-PUBLISHED-TTL:P3D
REFRESH-INTERVAL:P3D
CALSCALE:GREGORIAN
BEGIN:VEVENT
DTSTART:20190518T140000Z
DTEND:20190518T160000Z
X-MICROSOFT-CDO-ALLDAYEVENT:FALSE
SUMMARY:Touch-A-Truck
DESCRIPTION:This event provides a unique opportunity for children to explore vehicles of all types in one place. Vehicle types may include public service\, emergency\, utility\, construction and just plain cool! Children will be allowed to touch\, climb on and ask questions about their favorite vehicles in a safe\, supervised environment. Accompanying personnel will teach the children about the vehicles and how they benefit us and our community. This event is free for all ages.
X-ALT-DESC;FMTTYPE=text/html:This event provides a unique opportunity for children to explore vehicles of all types in one place. Vehicle types may include public service\, emergency\, utility\, construction and just plain cool! Children will be allowed to touch\, climb on and ask questions about their favorite vehicles in a safe\, supervised environment. Accompanying personnel will teach the children about the vehicles and how they benefit us and our community. This event is free for all ages.
LOCATION:Shanklin Park 411 W. Plymouth Ave. Goshen\, IN 46526
UID:e.689.19197
SEQUENCE:3
DTSTAMP:20260423T163958Z
URL:https://business.goshen.org/events/details/touch-a-truck-05-18-2019-19197
END:VEVENT

END:VCALENDAR
