BEGIN:VCALENDAR
VERSION:2.0
PRODID:-//ChamberMaster//Event Calendar 2.0//EN
METHOD:PUBLISH
X-PUBLISHED-TTL:P3D
REFRESH-INTERVAL:P3D
CALSCALE:GREGORIAN
BEGIN:VEVENT
DTSTART:20170315T230000Z
DTEND:20170316T003000Z
X-MICROSOFT-CDO-ALLDAYEVENT:FALSE
SUMMARY:Timberdoodle Trek
DESCRIPTION:It may have the build of a chubby sandpiper\, but during courtship\, a male American Woodcock (aka Timberdoodle) becomes a master acrobat of the sky. In this special evening Wednesday Bird Walk\, join us as we embark on a twilight trek at Lieber Nature Preserve to catch a glimpse of Timberdoodles spiraling in the sky. Participants are encouraged to bring a flashlight and dress for an evening hike. Due to parking limitations at Lieber Nature Preserve\, we will carpool from Elkhart County Historical Museum.
X-ALT-DESC;FMTTYPE=text/html:It may have the build of a chubby sandpiper\, but during courtship\, a male American Woodcock (aka Timberdoodle) becomes a master acrobat of the sky. In this special evening Wednesday Bird Walk\, join us as we embark on a twilight trek at Lieber Nature Preserve to catch a glimpse of Timberdoodles spiraling in the sky. Participants are encouraged to bring a flashlight and dress for an evening hike. Due to parking limitations at Lieber Nature Preserve\, we will carpool from Elkhart County Historical Museum.
LOCATION:Elkhart County Historical Museum 304 W Vistula St\, Bristol\, Indiana 46507
UID:e.689.16710
SEQUENCE:3
DTSTAMP:20260425T122212Z
URL:https://business.goshen.org/events/details/timberdoodle-trek-16710
END:VEVENT

END:VCALENDAR
